BEGIN:VCALENDAR
VERSION:2.0
PRODID:-// - ECPv6.15.20//NONSGML v1.0//EN
CALSCALE:GREGORIAN
METHOD:PUBLISH
X-ORIGINAL-URL:https://umanitanova.org
X-WR-CALDESC:Eventi per 
REFRESH-INTERVAL;VALUE=DURATION:PT1H
X-Robots-Tag:noindex
X-PUBLISHED-TTL:PT1H
BEGIN:VTIMEZONE
TZID:Europe/Rome
BEGIN:DAYLIGHT
TZOFFSETFROM:+0100
TZOFFSETTO:+0200
TZNAME:CEST
DTSTART:20250330T010000
END:DAYLIGHT
BEGIN:STANDARD
TZOFFSETFROM:+0200
TZOFFSETTO:+0100
TZNAME:CET
DTSTART:20251026T010000
END:STANDARD
BEGIN:DAYLIGHT
TZOFFSETFROM:+0100
TZOFFSETTO:+0200
TZNAME:CEST
DTSTART:20260329T010000
END:DAYLIGHT
BEGIN:STANDARD
TZOFFSETFROM:+0200
TZOFFSETTO:+0100
TZNAME:CET
DTSTART:20261025T010000
END:STANDARD
BEGIN:DAYLIGHT
TZOFFSETFROM:+0100
TZOFFSETTO:+0200
TZNAME:CEST
DTSTART:20270328T010000
END:DAYLIGHT
BEGIN:STANDARD
TZOFFSETFROM:+0200
TZOFFSETTO:+0100
TZNAME:CET
DTSTART:20271031T010000
END:STANDARD
END:VTIMEZONE
BEGIN:VEVENT
DTSTART;TZID=Europe/Rome:20260418T200000
DTEND;TZID=Europe/Rome:20260418T220000
DTSTAMP:20260420T014229
CREATED:20260419T181314Z
LAST-MODIFIED:20260419T181314Z
UID:35805-1776542400-1776549600@umanitanova.org
SUMMARY:BOLOGNA: Giochi da tavola e GDR - Spagna '36 Utopia Storia Rivoluzione
DESCRIPTION:1) Sabato 18/4 – Giochi da tavola e GDR – Spagna ’36 Utopia Storia Rivoluzione\ndalle ore 20 \nNel secondo appuntamento della rassegna “Spagna 1936-2026: Utopia\, Storia\, Rivoluzione”\, esploriamo il mondo dei giochi da tavola e dei giochi di ruolo. Abbiamo selezionato una serie di giochi legati direttamente alla storia della rivoluzione e guerra civile spagnola\, ma sono benvenute anche altre proposte che affrontino temi collegati\, es. la resistenza al fascismo\, la costruzione di una società libertaria etc. Portale il 18 aprile al Circolo Berneri!\n* Popular Front (2010)\nUn gioco di strategia in cui il Fronte Repubblicano e quello Nazionalista si contendono il futuro della Spagna. Si giocano sei gruppi distribuiti nei due fronti (fazione anarchica\, comunista\, e socialista da un lato; carlista\, requeté\, e falange dall’altro)\, cercando di guadagnare influenza politica e aumentare il loro controllo sul territorio. (6 persone\, 90-120 minuti)\n* Tierra y Libertad (2023)\nAltro gioco di strategia in cui però si interpreta solo il Fronte Repubblicano. Le diverse fazioni interne (anarchica\, comunista\, moderata) devono cooperare contro l’avanzata del fascismo\, ma anche competere tra di loro per influenzare la direzione politica del Fronte. (3-6 persone\, 60-90 minuti)\n* No Pasaran! (2022)\nUn solitario di carte (ma si può provare anche in coppia) in cui si gioca la resistenza spagnola contro il Franchismo\, con diverse missioni da provare. (1 persona\, 30-60 minuti)\n* La Desbandá 1937 (2023)\nGioco di ruolo basato sull’assedio di Malaga e sulla figura del medico comunista canadese Norman Bethune\, volontario nella guerra civile di Spagna dove sviluppò unità mediche mobili per portare assistenza sanitaria nelle zone di conflitto. (6 persone\, 240 minuti)\n***********\nRassegna “Spagna 1936-2026: Utopia\, Storia\, Rivoluzione”\nSpagna 1936: il popolo in armi scende in strada contro il tentativo di golpe dei generali e dà vita alla rivoluzione libertaria\, agendo in prima persona. La Catalogna è rossa e nera\, così come altre regioni del paese. Nelle zone che rimangono in mano antifascista la rivoluzione sociale è realtà: autogestione dei servizi e delle industrie\, collettivizzazione delle terre. L’utopia si fa realtà\, ma ha contro molti nemici: le potenze occidentali cosiddette democratiche\, l’intervento militare nazifascista\, il ruolo in apparenza ambiguo ma di fatto controrivoluzionario dell’Unione Sovietica di Stalin. La breve estate dell’anarchia si spegne nel 1937\, stretta nella morsa infernale delle potenze europee\, assediata dal nazifascismo e pugnalata alle spalle dallo stalinismo che ordisce nel maggio 1937 a Barcellona l’assassinio di Camillo Berneri\, militante di riferimento per il movimento anarchico internazionale.\nCon questa rassegna vogliamo esplorare le forme in cui la storia e memoria della rivoluzione sociale e guerra civile di Spagna vengono tramandate (archivi\, ricerche\, giochi\, film etc.)\, e confrontarci sul significato che queste esperienze hanno per i movimenti libertari contemporanei.\nQuesta storia parla all’oggi: indica la nostra volontà di rivolta contro un ordine ingiusto\, e la necessità che movimenti popolari si oppongano con l’azione diretta al panorama attuale di fascismi\, guerra\, sfruttamento e devastazione ambientale.\nSpagna 1936-2026: Utopia\, Storia\, Rivoluzione.
URL:https://umanitanova.org/event/bologna-giochi-da-tavola-e-gdr-spagna-36-utopia-storia-rivoluzione/
LOCATION:bologna
CATEGORIES:Evento
END:VEVENT
END:VCALENDAR