BEGIN:VCALENDAR
VERSION:2.0
PRODID:-// - ECPv6.15.20//NONSGML v1.0//EN
CALSCALE:GREGORIAN
METHOD:PUBLISH
X-ORIGINAL-URL:https://umanitanova.org
X-WR-CALDESC:Eventi per 
REFRESH-INTERVAL;VALUE=DURATION:PT1H
X-Robots-Tag:noindex
X-PUBLISHED-TTL:PT1H
BEGIN:VTIMEZONE
TZID:Europe/Rome
BEGIN:DAYLIGHT
TZOFFSETFROM:+0100
TZOFFSETTO:+0200
TZNAME:CEST
DTSTART:20240331T010000
END:DAYLIGHT
BEGIN:STANDARD
TZOFFSETFROM:+0200
TZOFFSETTO:+0100
TZNAME:CET
DTSTART:20241027T010000
END:STANDARD
BEGIN:DAYLIGHT
TZOFFSETFROM:+0100
TZOFFSETTO:+0200
TZNAME:CEST
DTSTART:20250330T010000
END:DAYLIGHT
BEGIN:STANDARD
TZOFFSETFROM:+0200
TZOFFSETTO:+0100
TZNAME:CET
DTSTART:20251026T010000
END:STANDARD
BEGIN:DAYLIGHT
TZOFFSETFROM:+0100
TZOFFSETTO:+0200
TZNAME:CEST
DTSTART:20260329T010000
END:DAYLIGHT
BEGIN:STANDARD
TZOFFSETFROM:+0200
TZOFFSETTO:+0100
TZNAME:CET
DTSTART:20261025T010000
END:STANDARD
END:VTIMEZONE
BEGIN:VEVENT
DTSTART;TZID=Europe/Rome:20250412T180000
DTEND;TZID=Europe/Rome:20250412T200000
DTSTAMP:20260421T182734
CREATED:20250408T184013Z
LAST-MODIFIED:20250408T184013Z
UID:31481-1744480800-1744488000@umanitanova.org
SUMMARY:ROMA: Presentazione del libro "Io e Matilde" di Marco Branchi.
DESCRIPTION:Sabato 12 Aprile 2025 dalle ore 18:00 in poi in Via Vettor Fausto 3\, Roma Garbatella continueremo il dibattito sull’intelligenza artificiale con la presentazione del libro “Io e Matilde” di Marco Branchi. \nL’autore\, introdotto da Francesco Fricche\, parlerà delle sue conversazioni con Matilde\, un’intelligenza artificiale antropizzata da lui\, su libertà\, arte e anarchia. \nLe canzoni di Marco Tranquilli accompagneranno la serata. \nA seguire cena solidale e convivialità: da ognuno secondo le sue possibilità\, ad ognuno secondo i suoi bisogni! \nCi vediamo sabato 12 aprile alle 18:00 in Via Vettor Fausto 3 (entrare nel portone e scendere le scale) \nGruppo Anarchico M. Bakunin – FAI Roma e Lazio \ngruppobakunin@federazioneanarchica.org \nPresentazione del libro “Io e Matilde”\, intervento di Francesco Fricche\, a seguire musica con Marco Tranquilli. Cena a sottoscrizione. 12 aprile ore 18 Spazio Anarchico Bakunin Roma
URL:https://umanitanova.org/event/roma-presentazione-del-libro-io-e-matilde-di-marco-branchi/
LOCATION:roma
CATEGORIES:Evento
END:VEVENT
BEGIN:VEVENT
DTSTART;TZID=Europe/Rome:20250412T180000
DTEND;TZID=Europe/Rome:20250412T210000
DTSTAMP:20260421T182734
CREATED:20250408T185515Z
LAST-MODIFIED:20250408T185515Z
UID:31487-1744480800-1744491600@umanitanova.org
SUMMARY:VERONA: Università sotto attacco:  Presentazione di "L'ACCADEMIA E IL FUORI"
DESCRIPTION:L’UNIVERSITA’ SOTTO ATTACCO\nIl lavoro intellettuale tra precarietà e neoliberalizzazione\nPresentazione del volume\n  \n“L’ACCADEMIA E IL FUORI” (ed. Orthotes)\na cura di Fabio Mengali Francesca Padovani e Alessia Tortolini\nSabato 12 aprile 2025\nLa Sobilla apre alle 18.00 con accogliente apertura\n> Inizio presentazione ore 18.30 \nCosa significa lavorare oggi all’interno dell’università italiana? Tra tagli massicci ai finanziamenti e aumento esponenziale del precariato\, l’autoreferenzialità del mondo accademico promuove la produzione di un sapere ultraspecializzato e ultrasettoriale\, precludendo il confronto tra i lavoratori e le lavoratrici\, e incrementando così la competizione e il senso di alienazione. È possibile costruire pratiche di resistenza all’interno dell’università e ricercare una collaborazione più sostanziale con realtà esterne\, come la scuola e la politica? \nNe parliamo con Fabio Mengali\, Francesco Padovani e Alessia Tortolini\, curatori e curatrice del volume L’accademia e il fuori. Il problema dell’intellettuale specializzato in Italia (Orthotes 2023)\, che raccoglie le riflessioni di lavoratori e lavoratrici della conoscenza sull’evoluzione delle condizioni materiali del lavoro intellettuale in Italia e sul rapporto tra mondo accademico e società. \nL’UNIVERSITA’ SOTTO ATTACCOIl lavoro intellettuale tra precarietà e neoliberalizzazionePresentazione del volume“L’ACCADEMIA E IL FUORI” (ed. Orthotes)a cura di Fabio Mengali Francesca Padovani e Alessia Tortolini
URL:https://umanitanova.org/event/verona-universita-sotto-attacco-presentazione-di-laccademia-e-il-fuori/
LOCATION:verona
CATEGORIES:Evento
END:VEVENT
END:VCALENDAR