BEGIN:VCALENDAR
VERSION:2.0
PRODID:-// - ECPv6.15.20//NONSGML v1.0//EN
CALSCALE:GREGORIAN
METHOD:PUBLISH
X-ORIGINAL-URL:https://umanitanova.org
X-WR-CALDESC:Eventi per 
REFRESH-INTERVAL;VALUE=DURATION:PT1H
X-Robots-Tag:noindex
X-PUBLISHED-TTL:PT1H
BEGIN:VTIMEZONE
TZID:Europe/Rome
BEGIN:DAYLIGHT
TZOFFSETFROM:+0100
TZOFFSETTO:+0200
TZNAME:CEST
DTSTART:20240331T010000
END:DAYLIGHT
BEGIN:STANDARD
TZOFFSETFROM:+0200
TZOFFSETTO:+0100
TZNAME:CET
DTSTART:20241027T010000
END:STANDARD
BEGIN:DAYLIGHT
TZOFFSETFROM:+0100
TZOFFSETTO:+0200
TZNAME:CEST
DTSTART:20250330T010000
END:DAYLIGHT
BEGIN:STANDARD
TZOFFSETFROM:+0200
TZOFFSETTO:+0100
TZNAME:CET
DTSTART:20251026T010000
END:STANDARD
BEGIN:DAYLIGHT
TZOFFSETFROM:+0100
TZOFFSETTO:+0200
TZNAME:CEST
DTSTART:20260329T010000
END:DAYLIGHT
BEGIN:STANDARD
TZOFFSETFROM:+0200
TZOFFSETTO:+0100
TZNAME:CET
DTSTART:20261025T010000
END:STANDARD
END:VTIMEZONE
BEGIN:VEVENT
DTSTART;TZID=Europe/Rome:20250514T200000
DTEND;TZID=Europe/Rome:20250514T220000
DTSTAMP:20260420T140257
CREATED:20250514T002710Z
LAST-MODIFIED:20250514T002710Z
UID:31962-1747252800-1747260000@umanitanova.org
SUMMARY:VERONA: DISEGNIAMOCI gran baccanale del disegno dal vivo
DESCRIPTION:DISEGNIAMOCI\ngran baccanale del disegno dal vivo\nTema della serata: ULTIMO BALLO\nFESTEGGIAMO LA CHIUSURA DELLA STAGIONE EVENTI “LA SOBILLA” CON PICCOLA ESPOSIZIONE DEI VOSTRI MANUFATTI! \nDISEGNIAMOCIgran baccanale del disegno dal vivo\nDISEGNAMOCI è una serata di disegno dal vivo aperta a tutti e tutte. \nTi appassiona la matita? Allora vieni a metterti in gioco\, per conoscersi\, disegnare e condividere la passione per la grafite! \n> La Sobilla apre alle 19.30 con benvenuto disegnato\n> Si disegna dalle 20.00 alle 22.00 \n  \nFunziona così:\nsi disegna nel tempo massimo di una / due canzoni\, a turno dovrete posare ispirandovi al tema della serata (no nudo)\, per poi tornare comodamente a disegnare.\nVoi portate il vostro materiale da disegno\, ai tavoli\, alle sedie e ai generi di conforto ci pensa nonna Sobilla.\nNon c’è obbligo di posare\, non sono richieste abilità di alcun livello e non vengono impartite lezioni. \nVi aspettiamo baldanzos* al gran baccanale del disegnino! \nLa Sobilla >> ingresso libero con tessera (5 €) \nNO PARKING! (siamo in una strada privata)
URL:https://umanitanova.org/event/verona-disegniamoci-gran-baccanale-del-disegno-dal-vivo-2/
LOCATION:verona
CATEGORIES:Evento
END:VEVENT
BEGIN:VEVENT
DTSTART;TZID=Europe/Rome:20250412T180000
DTEND;TZID=Europe/Rome:20250412T210000
DTSTAMP:20260420T140257
CREATED:20250408T185515Z
LAST-MODIFIED:20250408T185515Z
UID:31487-1744480800-1744491600@umanitanova.org
SUMMARY:VERONA: Università sotto attacco:  Presentazione di "L'ACCADEMIA E IL FUORI"
DESCRIPTION:L’UNIVERSITA’ SOTTO ATTACCO\nIl lavoro intellettuale tra precarietà e neoliberalizzazione\nPresentazione del volume\n  \n“L’ACCADEMIA E IL FUORI” (ed. Orthotes)\na cura di Fabio Mengali Francesca Padovani e Alessia Tortolini\nSabato 12 aprile 2025\nLa Sobilla apre alle 18.00 con accogliente apertura\n> Inizio presentazione ore 18.30 \nCosa significa lavorare oggi all’interno dell’università italiana? Tra tagli massicci ai finanziamenti e aumento esponenziale del precariato\, l’autoreferenzialità del mondo accademico promuove la produzione di un sapere ultraspecializzato e ultrasettoriale\, precludendo il confronto tra i lavoratori e le lavoratrici\, e incrementando così la competizione e il senso di alienazione. È possibile costruire pratiche di resistenza all’interno dell’università e ricercare una collaborazione più sostanziale con realtà esterne\, come la scuola e la politica? \nNe parliamo con Fabio Mengali\, Francesco Padovani e Alessia Tortolini\, curatori e curatrice del volume L’accademia e il fuori. Il problema dell’intellettuale specializzato in Italia (Orthotes 2023)\, che raccoglie le riflessioni di lavoratori e lavoratrici della conoscenza sull’evoluzione delle condizioni materiali del lavoro intellettuale in Italia e sul rapporto tra mondo accademico e società. \nL’UNIVERSITA’ SOTTO ATTACCOIl lavoro intellettuale tra precarietà e neoliberalizzazionePresentazione del volume“L’ACCADEMIA E IL FUORI” (ed. Orthotes)a cura di Fabio Mengali Francesca Padovani e Alessia Tortolini
URL:https://umanitanova.org/event/verona-universita-sotto-attacco-presentazione-di-laccademia-e-il-fuori/
LOCATION:verona
CATEGORIES:Evento
END:VEVENT
BEGIN:VEVENT
DTSTART;TZID=Europe/Rome:20250409T200000
DTEND;TZID=Europe/Rome:20250409T220000
DTSTAMP:20260420T140257
CREATED:20250408T185101Z
LAST-MODIFIED:20250408T185712Z
UID:31485-1744228800-1744236000@umanitanova.org
SUMMARY:VERONA: DISEGNAMOCI: Gran baccanale del disegno dal vivo
DESCRIPTION:DISEGNIAMOCI\ngran baccanale del disegno dal vivo\nTi appassiona la matita? Allora vieni a metterti in gioco\, per conoscersi\, disegnare e condividere la passione per la grafite!\n  \n> La Sobilla apre alle 19.30 con benvenuto disegnato\n> Si disegna dalle 20.00 alle 22.00 \nFunziona così:\nsi disegna nel tempo massimo di una / due canzoni\, a turno dovrete posare ispirandovi al tema della serata (no nudo)\, per poi tornare comodamente a disegnare.\nVoi portate il vostro materiale da disegno\, ai tavoli\, alle sedie e ai generi di conforto ci pensa nonna Sobilla.\nNon c’è obbligo di posare\, non sono richieste abilità di alcun livello e non vengono impartite lezioni. \nVi aspettiamo baldanzos* al gran baccanale del disegnino! \n  \nDISEGNIAMOCIgran baccanale del disegno dal vivo
URL:https://umanitanova.org/event/verona-disegnamoci-gran-baccanale-del-disegno-dal-vivo/
LOCATION:verona
CATEGORIES:Evento
END:VEVENT
BEGIN:VEVENT
DTSTART;TZID=Europe/Rome:20250312T203000
DTEND;TZID=Europe/Rome:20250312T223000
DTSTAMP:20260420T140257
CREATED:20250311T082633Z
LAST-MODIFIED:20250311T082633Z
UID:31071-1741811400-1741818600@umanitanova.org
SUMMARY:VERONA: Come ti reprimo gli ecovandali
DESCRIPTION:“COME TI REPRIMO GLI ECOVANDALI” \nPresentazione dei libri “L’ecovandalo. Perchè è ora di agire anche a costo di essere odiato” di Simone Ficicchia e il libro di poesie “Frammenti” di Erica Cardin \nUn incontro per parlare di lotta\, repressione e resistenza. A partire dal libro di Simone Ficicchia\, attraverseremo esperienze personali e collettive\, tra attivismo ambientale e giustizia. \nInterverranno:\n🔹 Simone Ficicchia – autore del libro e attivista\, ci racconterà da dove nasce questo titolo e il percorso che lo ha portato a scriverlo\, toccando anche le conseguenze della sorveglianza speciale.\n🔹 Alessandro Natali – avvocato penalista\, con un approfondimento sulla sorveglianza speciale e le novità del ddl 1660.\n🔹 Erica Cardin – Lettura di poesie dal suo ultimo libro. \nUn’occasione per discutere dell’attualità politica e dell’impegno del movimento @ultima.generazione. \n  \n> La Sobilla apre alle 19.30 con accogliente apertura\n> Presentazione ore 20.30 \nLa Sobilla >> ingresso libero con tessera (5 €) \nNO PARKING! (siamo in una strada privata) \na
URL:https://umanitanova.org/event/verona-come-ti-reprimo-gli-ecovandali/
LOCATION:verona
CATEGORIES:Evento
END:VEVENT
BEGIN:VEVENT
DTSTART;TZID=Europe/Rome:20250219T200000
DTEND;TZID=Europe/Rome:20250219T220000
DTSTAMP:20260420T140257
CREATED:20250218T184641Z
LAST-MODIFIED:20250218T184641Z
UID:30799-1739995200-1740002400@umanitanova.org
SUMMARY:VERONA: DISEGNIAMOCI: gran baccanale del disegno dal vivo
DESCRIPTION:DISEGNIAMOCI\ngran baccanale del disegno dal vivo \nTi appassiona la matita? Allora vieni a metterti in gioco\, per conoscersi\, disegnare e condividere la passione per la grafite! \n  \n> La sobilla apre alle 19.30 con benvenuto disegnato\n> Si disegna dalle 20.00 alle 22.00 \nFunziona così:\nsi disegna nel tempo massimo di una / due canzoni\, a turno dovrete posare ispirandovi al tema della serata (no nudo)\, per poi tornare comodamente a disegnare.\nVoi portate il vostro materiale da disegno\, ai tavoli\, alle sedie e ai generi di conforto ci pensa nonna Sobilla.\nNon c’è obbligo di posare\, non sono richieste abilità di alcun livello e non vengono impartite lezioni. \nVi aspettiamo baldanzos* al gran baccanale del disegnino! \nLa Sobilla >> ingresso libero con tessera (5 €) \nNO PARKING! (siamo in una strada privata) \nSalita Santo Sepolcro 6B \, Verona \nDISEGNIAMOCIgran baccanale del disegno dal vivo. MERCOLEDI 19 FEBBRAIO 20-22\n  \n  \n 
URL:https://umanitanova.org/event/verona-disegniamoci-gran-baccanale-del-disegno-dal-vivo/
LOCATION:verona
CATEGORIES:Evento
END:VEVENT
END:VCALENDAR