BEGIN:VCALENDAR
VERSION:2.0
PRODID:-// - ECPv6.15.20//NONSGML v1.0//EN
CALSCALE:GREGORIAN
METHOD:PUBLISH
X-ORIGINAL-URL:https://umanitanova.org
X-WR-CALDESC:Eventi per 
REFRESH-INTERVAL;VALUE=DURATION:PT1H
X-Robots-Tag:noindex
X-PUBLISHED-TTL:PT1H
BEGIN:VTIMEZONE
TZID:Europe/Rome
BEGIN:DAYLIGHT
TZOFFSETFROM:+0100
TZOFFSETTO:+0200
TZNAME:CEST
DTSTART:20250330T010000
END:DAYLIGHT
BEGIN:STANDARD
TZOFFSETFROM:+0200
TZOFFSETTO:+0100
TZNAME:CET
DTSTART:20251026T010000
END:STANDARD
BEGIN:DAYLIGHT
TZOFFSETFROM:+0100
TZOFFSETTO:+0200
TZNAME:CEST
DTSTART:20260329T010000
END:DAYLIGHT
BEGIN:STANDARD
TZOFFSETFROM:+0200
TZOFFSETTO:+0100
TZNAME:CET
DTSTART:20261025T010000
END:STANDARD
BEGIN:DAYLIGHT
TZOFFSETFROM:+0100
TZOFFSETTO:+0200
TZNAME:CEST
DTSTART:20270328T010000
END:DAYLIGHT
BEGIN:STANDARD
TZOFFSETFROM:+0200
TZOFFSETTO:+0100
TZNAME:CET
DTSTART:20271031T010000
END:STANDARD
END:VTIMEZONE
BEGIN:VEVENT
DTSTART;TZID=Europe/Rome:20260417T190000
DTEND;TZID=Europe/Rome:20260417T210000
DTSTAMP:20260419T180859
CREATED:20260417T144557Z
LAST-MODIFIED:20260417T144557Z
UID:35772-1776452400-1776459600@umanitanova.org
SUMMARY:ROMA: DDL Sicurezza -  Interviene Flavio Rossi Albertini
DESCRIPTION:Negli ultimi anni abbiamo assistito ad una svolta autoritaria globale. \nUn processo che\, nella bella democrazia del G8 di Genova e di Piazza Fontana\, si è manifestato chiaramente\, a partire dai “decreti sicurezza”\, promossi anche dai partiti che oggi si dipingono come alternativa alla destra\, passando per l’uso politico del 41bis\, fino al recente tentativo di criminalizzare e bandire l’antifascismo\, di definire antisemitismo qualsiasi critica ad Israele. E la lista sarebbe ancora lunga. \nLo scopo dei padroni è impedire qualsiasi forma di lotta e di dissenso\, nel sempre più drammatico e instabile scenario di guerra\, di crisi\, di povertà. \nUna reazione scomposta di un sistema in evidente affanno. \nIl governo Meloni\, battezzato dalle manganellate alla Sapienza nel giorno del suo insediamento\, ha continuamente alzato il livello della repressione\, trasformando l’Italia in uno stato di polizia. \nLeggi e decreti legge hanno eroso le già limitate libertà politiche e aumentato il campo di azione delle “forze dell’ordine”. \nNon si contano gli episodi di violenza poliziesca\, le intimidazioni\, gli sgomberi\, mentre una propaganda costruita ad arte contro il nemico di turno (i raver\, i pro-pal\, i maranza\, gli anarchici) vorrebbe giustificare la riduzione della libertà in nome di una presunta emergenza. \nCome gruppo anarchico\, lottiamo per idee e pratiche di libertà e di autogestione\, contro guerra\, gerarchia e sfruttamento\, contro ogni repressione. \nDi questo e di altro\, parleremo con l’avvocato Flavio Rossi Albertini. \nCi vediamo venerdì 17 aprile dalle 19.00\, presso lo Spazio Anarchico in Via Vettor Fausto\, 3 – Roma (Garbatella). \nA seguire\, cena a sottoscrizione libera. \nGruppo Anarchico Mikhail Bakunin – Federazione Anarchica Italiana Roma&Lazio \ngruppobakunin@federazioneanarchica.org
URL:https://umanitanova.org/event/roma-ddl-sicurezza-interviene-flavio-rossi-albertini/
LOCATION:roma
CATEGORIES:Evento
END:VEVENT
END:VCALENDAR