BEGIN:VCALENDAR
VERSION:2.0
PRODID:-// - ECPv6.15.20//NONSGML v1.0//EN
CALSCALE:GREGORIAN
METHOD:PUBLISH
X-ORIGINAL-URL:https://umanitanova.org
X-WR-CALDESC:Eventi per 
REFRESH-INTERVAL;VALUE=DURATION:PT1H
X-Robots-Tag:noindex
X-PUBLISHED-TTL:PT1H
BEGIN:VTIMEZONE
TZID:Europe/Rome
BEGIN:DAYLIGHT
TZOFFSETFROM:+0100
TZOFFSETTO:+0200
TZNAME:CEST
DTSTART:20250330T010000
END:DAYLIGHT
BEGIN:STANDARD
TZOFFSETFROM:+0200
TZOFFSETTO:+0100
TZNAME:CET
DTSTART:20251026T010000
END:STANDARD
BEGIN:DAYLIGHT
TZOFFSETFROM:+0100
TZOFFSETTO:+0200
TZNAME:CEST
DTSTART:20260329T010000
END:DAYLIGHT
BEGIN:STANDARD
TZOFFSETFROM:+0200
TZOFFSETTO:+0100
TZNAME:CET
DTSTART:20261025T010000
END:STANDARD
BEGIN:DAYLIGHT
TZOFFSETFROM:+0100
TZOFFSETTO:+0200
TZNAME:CEST
DTSTART:20270328T010000
END:DAYLIGHT
BEGIN:STANDARD
TZOFFSETFROM:+0200
TZOFFSETTO:+0100
TZNAME:CET
DTSTART:20271031T010000
END:STANDARD
END:VTIMEZONE
BEGIN:VEVENT
DTSTART;TZID=Europe/Rome:20260501T110000
DTEND;TZID=Europe/Rome:20260501T203000
DTSTAMP:20260424T031930
CREATED:20260407T071446Z
LAST-MODIFIED:20260422T110901Z
UID:35625-1777633200-1777667400@umanitanova.org
SUMMARY:PRIMO MAGGIO ANARCHICO
DESCRIPTION:JESI\n \nPRIMO MAGGIO 1936-2026\nIn Italia come in Spagna. Gli anarchici hanno fatto la storia\ncome tutti i lavoratori la fanno ogni giorno. Senza confini senza nazioni. \npranzo sociale [prenotarsi scrivendo a cslfabbri@gmail.com] \na seguire presentazione libro “L’amico spagnolo” di F. Forlani\n“Un romanzo di avventura\, storia\, amicizia\, amore e politica\, ironia e\ntenerezza\, sulle tracce di Errico Malatesta\, il più ricercato\nanarchico d’Europa.”\nDialoga con l’autore Andrea Fazzini [autore e regista]. \n____________________________________________________ \nRAGUSA\n \n___________________________________________________________ \nEMPOLI\nLa Federazione Anarchica Empolese e della Valdelsa effettuerà il 1° Maggio a Empoli :\nCONCENTRAMENTO in Pz. Stazione ore 9\,30 alla fine del corteo COMIZIO ANARCHICO in Largo della Resistenza sotto la lapide di Pietro Gori.\n\n\n\n\nTORINO\nVenerdì 1 maggio\nore 9 piazza Vittorio\nSpezzone antimilitarista rosso e nero\nContro tutte le patrie per un mondo senza frontiere!\nPace tra gli oppressi\, guerra agli oppressori! \n\nCARRARA\n \nPRIMO MAGGIO ANARCHICO A CARRARA \nOre 9:30 – ritrovo in piazza de andré \nore 10:00 comizio \nA seguire corteo con conclusione davanti alla sede storica del Germinal \nCOMITATO PRIMO MAGGIO ANARCHICO – GRUPPO ANARCHICO GERMINAL – FAI – GRUPPO MALATESTA GRAGNANA – FEDERAZIONE ANARCHICA ITALIANA
URL:https://umanitanova.org/event/primo-maggio-anarchico/
CATEGORIES:Evento
END:VEVENT
BEGIN:VEVENT
DTSTART;TZID=Europe/Rome:20260509T160000
DTEND;TZID=Europe/Rome:20260509T200000
DTSTAMP:20260424T031930
CREATED:20260407T071737Z
LAST-MODIFIED:20260407T071737Z
UID:35628-1778342400-1778356800@umanitanova.org
SUMMARY:JESI: Swap Party!
DESCRIPTION:come partecipare: – Porta massimo oggetti o vestiti in buone\ncondizioni e puliti – prendi qualcosa / lascia qualcosa. nessuna\nvendita! – gli oggetti non scambiati tornano a casa con chi li ha\nportati – se ti va porta cibo da condividere -prenotazione gradita\nfino ad esaurimento posti su tavoli! Manda una mail a\ncslfabbri@gmail.com “il baratto è qualcosa di bello perché l’idea che\nnon ti servano per forza dei soldi per compare qualcosa e che quindi\nse non ce li hai non la puoi avere\, è molto limitante”. basato sulla\ncondivisione e sul riutilizzo\, consente di abbattere i costi\, Cosa c’è\ndi più bello di socializzare\, conoscersi e condividere la rottura dei\nlegami della compravendita? partecipa!
URL:https://umanitanova.org/event/jesi-swap-party-4/
END:VEVENT
END:VCALENDAR