BEGIN:VCALENDAR
VERSION:2.0
PRODID:-// - ECPv6.15.20//NONSGML v1.0//EN
CALSCALE:GREGORIAN
METHOD:PUBLISH
X-ORIGINAL-URL:https://umanitanova.org
X-WR-CALDESC:Eventi per 
REFRESH-INTERVAL;VALUE=DURATION:PT1H
X-Robots-Tag:noindex
X-PUBLISHED-TTL:PT1H
BEGIN:VTIMEZONE
TZID:Europe/Rome
BEGIN:DAYLIGHT
TZOFFSETFROM:+0100
TZOFFSETTO:+0200
TZNAME:CEST
DTSTART:20220327T010000
END:DAYLIGHT
BEGIN:STANDARD
TZOFFSETFROM:+0200
TZOFFSETTO:+0100
TZNAME:CET
DTSTART:20221030T010000
END:STANDARD
BEGIN:DAYLIGHT
TZOFFSETFROM:+0100
TZOFFSETTO:+0200
TZNAME:CEST
DTSTART:20230326T010000
END:DAYLIGHT
BEGIN:STANDARD
TZOFFSETFROM:+0200
TZOFFSETTO:+0100
TZNAME:CET
DTSTART:20231029T010000
END:STANDARD
BEGIN:DAYLIGHT
TZOFFSETFROM:+0100
TZOFFSETTO:+0200
TZNAME:CEST
DTSTART:20240331T010000
END:DAYLIGHT
BEGIN:STANDARD
TZOFFSETFROM:+0200
TZOFFSETTO:+0100
TZNAME:CET
DTSTART:20241027T010000
END:STANDARD
END:VTIMEZONE
BEGIN:VEVENT
DTSTART;TZID=Europe/Rome:20230324T203000
DTEND;TZID=Europe/Rome:20230324T233000
DTSTAMP:20260421T183506
CREATED:20230313T170057Z
LAST-MODIFIED:20230313T170057Z
UID:24187-1679689800-1679700600@umanitanova.org
SUMMARY:Trieste : concerto dei  the Bonfire Kids e di Kelly Simons
DESCRIPTION:Trieste \n24 Marzo 2023 \nDalle Ore 21 \nin via del Bosco 52 C/O Il Gruppo Anarchico Germinal \nThe Bonefire Kids  Kelly Simon \nper info contattare: \ngerminalts.noblogs.org
URL:https://umanitanova.org/event/trieste-concerto-dei-the-bonfire-kids-e-di-kelly-simons/
CATEGORIES:Evento
END:VEVENT
END:VCALENDAR