BEGIN:VCALENDAR
VERSION:2.0
PRODID:-// - ECPv6.15.20//NONSGML v1.0//EN
CALSCALE:GREGORIAN
METHOD:PUBLISH
X-ORIGINAL-URL:https://umanitanova.org
X-WR-CALDESC:Eventi per 
REFRESH-INTERVAL;VALUE=DURATION:PT1H
X-Robots-Tag:noindex
X-PUBLISHED-TTL:PT1H
BEGIN:VTIMEZONE
TZID:Europe/Rome
BEGIN:DAYLIGHT
TZOFFSETFROM:+0100
TZOFFSETTO:+0200
TZNAME:CEST
DTSTART:20220327T010000
END:DAYLIGHT
BEGIN:STANDARD
TZOFFSETFROM:+0200
TZOFFSETTO:+0100
TZNAME:CET
DTSTART:20221030T010000
END:STANDARD
BEGIN:DAYLIGHT
TZOFFSETFROM:+0100
TZOFFSETTO:+0200
TZNAME:CEST
DTSTART:20230326T010000
END:DAYLIGHT
BEGIN:STANDARD
TZOFFSETFROM:+0200
TZOFFSETTO:+0100
TZNAME:CET
DTSTART:20231029T010000
END:STANDARD
BEGIN:DAYLIGHT
TZOFFSETFROM:+0100
TZOFFSETTO:+0200
TZNAME:CEST
DTSTART:20240331T010000
END:DAYLIGHT
BEGIN:STANDARD
TZOFFSETFROM:+0200
TZOFFSETTO:+0100
TZNAME:CET
DTSTART:20241027T010000
END:STANDARD
END:VTIMEZONE
BEGIN:VEVENT
DTSTART;TZID=Europe/Rome:20230225T130000
DTEND;TZID=Europe/Rome:20230225T163000
DTSTAMP:20260421T183044
CREATED:20230223T174810Z
LAST-MODIFIED:20230223T174810Z
UID:24013-1677330000-1677342600@umanitanova.org
SUMMARY:Roma:  sabato 25 febbraio manifestazione a Roma contro la guerra
DESCRIPTION:Sabato 25 febbraio manifestazione a Roma contro la guerra\n\n\nForo di Traiano – sabato 25 febbraio dalle 13:30 alle 16:30\nGruppo anarchico Mikhail Bakunin FAI Roma & Lazio\n\n\nDisertiamo la guerra! NO alla vostra guerra\, NO alla vostra pace!\n\nDopo un anno la guerra in Ucraina non accenna a fermarsi. Siamo contro tutti gli Stati belligeranti\, visto che i Governi\, di qualsiasi schieramento\, utilizzano sempre il popolo come carne da cannone. Questa guerra ha già causato decine di migliaia di vittime\, milioni di sfollati ed enorme distruzione ambientale. Un disastro che si aggrava ogni giorno.\nSiamo a fianco dei popoli ucraino e russo che stanno subendo la criminale repressione dei regimi di Putin e Zelensky\, così come siamo accanto a tutti i popoli vittime dei loro Stati e costretti a subire le tante guerre silenziate e dimenticate (e i regimi tirannici e liberticidi). Per questo siamo con le popolazioni della Siria\, del Kurdistan e della Turchia\, che oltre al devastante terremoto subiscono le violenze e i bombardamenti di Assad e Erdogan\, e sosteniamo la rivolta Donna\, vita\, libertà (in curdo: Jin\, Jîyan\, Azadî ) del popolo iraniano. Così come siamo a fianco del popolo palestinese contro l’oppressione israeliana e di tutti i popoli che lottano per la propria libertà.\nL’escalation militare e la corsa agli armamenti allontanano una prospettiva di pace\, ostacolano una soluzione diplomatica del conflitto e alimentano il nazionalismo e attacchi ai diritti\, come dimostrano le leggi autoritarie che sono sempre contro le lavoratrici e i lavoratori adottate da tutti i Governi e contro l’aumento delle spese militari mentre\, in Italia\, vengono tagliate quelle per sanità\, scuola e servizi pubblici.\n– Basta morire per le guerre dei padroni! Per una prospettiva di lotta di classe contro chi ci sfrutta e ci uccide ogni giorno sul posto di lavoro\n– per un’immediata diserzione e contro l’economia di guerra\, la corsa agli armamenti e l’aumento delle spese militari\n– per l’accoglienza per tutt* profugh*\, per chi fugge da tutte le guerre e le tragedie e contro chi ci manda a morire per i loro interessi\n– Piena accoglienza e solidarietà per i disertori e contro la coscrizione obbligatoria\n\nForo di Traiano – sabato 25 febbraio dalle 13:30 alle 16:30\nGruppo anarchico Mikhail Bakunin FAI Roma & Lazio\nhttps://www.facebook.com/events/595937018642192/?ref=newsfeed
URL:https://umanitanova.org/event/roma-sabato-25-febbraio-manifestazione-a-roma-contro-la-guerra/
CATEGORIES:Evento
END:VEVENT
BEGIN:VEVENT
DTSTART;TZID=Europe/Rome:20230225T173000
DTEND;TZID=Europe/Rome:20230225T233000
DTSTAMP:20260421T183044
CREATED:20230220T162553Z
LAST-MODIFIED:20230220T162553Z
UID:23981-1677346200-1677367800@umanitanova.org
SUMMARY:Pordenone: resistenza curda tra Turchia\, Siria e Iran+SOS terremoto
DESCRIPTION:25 Febbraio 2023\ndalle 18\nC/o Circolo Libertario M. Zapata Biblioteca M. Cancian\nVia Ungaresca 3/B Pordenone\n\nLa rivoluzione dimenticata:\nla resistenza curda tra Turchia\, Siria e Iran.\nNe parliamo con\n– Yilmaz Orkan\nresponsabile di UIKI-ONLUS\n20.30 segue BENEFIT – Cena Sociale*\ndi SOStegno alla popolazione colpita dal terremoto / Mezzaluna Rossa Kurdistan\nAd aprile del 2022\, lo stato turco ha avviato una nuova campagna militare estesa nel Kurdistan meridionale (regioni di Metina\, Zap e Avashin). Ci sono tutt’ora pesanti battaglie\, con le forze della guerriglia curda che resistono ferocemente a questa ennesima invasione. Questi attacchi su larga scala prendono di mira non solo le forze della guerriglia curda\, ma anche le conquiste del popolo curdo\, con l’obiettivo di occupare il Kurdistan meridionale.\nLa risposta a questi attacchi a livello internazionale è stata silenziata. Grazie a questa omertà istitiuzionale e mediatica a livello globale\, il regime turco ha messo in atto il suo piano per occupare tutto il Rojava (la regione del nord e dell’est della Siria) insieme al sud del Kurdistan.\nEppure sia in Iran che in Siria nelle rivolte che imperversano contro i regimi al potere anche curd* partecipano attivamente per una liberazione definitiva dal giogo dell’oppressione teocratica e autoritaria. Cosa sta succendendo in queste terre? A che punto è il confederalismo democratico? Cosa possiamo fare noi?\n*Gradita la prenotazione via SMS o WhatsApp a 333.4866588 (o tramite la nostra pagina)\nI soldi della serata saranno devoluti a\nMezzaluna Rossa Kurdistan Italia Onlus (Banca Etica)\nCodice IBAN: IT53R0501802800000016990236\nCodice BIC: CCRTIT2T84A\nTRAMITE PAYPAL: www.shorturl.at/hKM89
URL:https://umanitanova.org/event/pordenone-resistenza-curda-tra-turchia-siria-e-iransos-terremoto/
CATEGORIES:Evento
END:VEVENT
END:VCALENDAR