BEGIN:VCALENDAR
VERSION:2.0
PRODID:-// - ECPv6.15.20//NONSGML v1.0//EN
CALSCALE:GREGORIAN
METHOD:PUBLISH
X-ORIGINAL-URL:https://umanitanova.org
X-WR-CALDESC:Eventi per 
REFRESH-INTERVAL;VALUE=DURATION:PT1H
X-Robots-Tag:noindex
X-PUBLISHED-TTL:PT1H
BEGIN:VTIMEZONE
TZID:Europe/Rome
BEGIN:DAYLIGHT
TZOFFSETFROM:+0100
TZOFFSETTO:+0200
TZNAME:CEST
DTSTART:20220327T010000
END:DAYLIGHT
BEGIN:STANDARD
TZOFFSETFROM:+0200
TZOFFSETTO:+0100
TZNAME:CET
DTSTART:20221030T010000
END:STANDARD
BEGIN:DAYLIGHT
TZOFFSETFROM:+0100
TZOFFSETTO:+0200
TZNAME:CEST
DTSTART:20230326T010000
END:DAYLIGHT
BEGIN:STANDARD
TZOFFSETFROM:+0200
TZOFFSETTO:+0100
TZNAME:CET
DTSTART:20231029T010000
END:STANDARD
BEGIN:DAYLIGHT
TZOFFSETFROM:+0100
TZOFFSETTO:+0200
TZNAME:CEST
DTSTART:20240331T010000
END:DAYLIGHT
BEGIN:STANDARD
TZOFFSETFROM:+0200
TZOFFSETTO:+0100
TZNAME:CET
DTSTART:20241027T010000
END:STANDARD
END:VTIMEZONE
BEGIN:VEVENT
DTSTART;TZID=Europe/Rome:20230224T170000
DTEND;TZID=Europe/Rome:20230224T210000
DTSTAMP:20260421T183045
CREATED:20230223T175326Z
LAST-MODIFIED:20230223T175326Z
UID:24021-1677258000-1677272400@umanitanova.org
SUMMARY:Livorno 24 febbraio: manifestazione contro la guerra
DESCRIPTION:24 Febbraio  dalle h 17:30 in P. Grande LIVORNO \nPer una manifestazione internazionalista durante la quale chiediamo di non esporre bandiere di stati. \n  \nFERMIAMO LA CORSA DEL GOVERNO VERSO LA GUERRA MONDIALE \nCONTRO OGNI IMPERIALISMO SIA DELLA RUSSIA SIA DELLA NATO \nUn anno fa con l’invasione dell’Ucraina da parte della Federazione Russa il conflitto in atto dal 2014 in quella regione si è trasformato in una guerra di più vaste proporzioni che vede un coinvolgimento delle potenze a livello globale. \nIn questi giorni il governo e i partiti della guerra intensificano la propaganda. Vogliono aumentare le spese militari\, vogliono produrre più armi\, addirittura riconvertire l’industria al servizio della produzione bellica\, vogliono più missioni militari all’estero. È un vicolo cieco che porta verso la guerra mondiale. \nLa guerra non si combatte solo in Ucraina\, in questo anno sono aumentate le tensioni anche in altre aree del mondo. Colpi di stato\, conflitti di diversa intensità\, nuovi accordi militari\, riarmo\, grandi manovre. Dall’Africa al Pacifico si è assistito ad un’accelerazione dello scontro interimperialistico\, e nella crisi di egemonia delle potenze i settori militari acquisiscono un ruolo sempre più importante nella difesa dei privilegi delle classi dominanti. Quando i governi imperialisti parlano di pace in realtà stanno armando la guerra\, in Ucraina come nel resto del mondo. \nSolo in Europa decine di milioni di persone stanno già pagando le conseguenze dirette della guerra. In Ucraina come in Russia le classi sfruttate sono le prime a subire la miseria\, le distruzioni\, la morte\, ad essere costrette a fuggire\, ad essere mandate al macello a combattere al fronte. In Russia sono migliaia le persone che per essersi opposte alla guerra hanno subito la repressione del regime autoritario guidato da Putin\, che ha vietato addirittura che si parli di guerra. In Ucraina sono state recentemente inasprite le pene per coloro che violano la disciplina militare\, ed è ancora in vigore il divieto di uscita dal paese per gli uomini tra i 18 e i 60 anni. \nIn questo anno l’Ucraina ha ricevuto ingenti aiuti in armi e denaro\, il risultato è di fronte ai nostri occhi\, la guerra continua e miete sempre più vittime. Al 20 novembre 2022 l’Ucraina aveva ricevuto oltre 121 miliardi di finanziamenti\, sono aiuti che incatenano il paese ad un debito che non sarà mai in grado di saldare. In Germania come in Giappone\, in Svezia come in Italia il riarmo viene finanziato con montagne di miliardi. Chi pagherà tutto questo? Saranno le classi sfruttate di tutto il mondo a dover pagare i debiti di guerra dei governi\, sia in termini di militarizzazione sia come peggioramento delle condizioni di vita e di lavoro. \nIn questa spirale di guerra anche l’Italia gioca il proprio ruolo. Nel 2022 è cresciuto l’impegno militare neocoloniale strettamente legato agli interessi dell’ENI\, in Mozambico come in Qatar. Ma l’Italia partecipa anche al conflitto in Ucraina\, schierando le proprie truppe\, insieme a veicoli e gruppi aerei proprio ai confini del paese. Dei 12000 soldati schierati nelle missioni all’estero nel 2022\, oltre un quarto erano impiegati in Europa Orientale. Ed è proprio l’Italia a guidare il battle-group NATO sul lato sud est dell’alleanza\, di stanza tra Ungheria e Bulgaria. \nPer questo il 24 febbraio scenderemo in piazza\, per fermare la corsa del governo verso la guerra mondiale. L’appuntamento è per le h 17:30 in P. Grande per una manifestazione internazionalista durante la quale chiediamo di non esporre bandiere di stati. \n– Contro ogni imperialismo \n– Contro tutte le guerre e i nazionalismi \n– Basta invio di armi e denaro per alimentare la guerra in Ucraina \n– Basta missioni militari in Europa Orientale \n– Solidarietà tra le classi sfruttate dei diversi paesi \n– Sostegno a chi diserta e a chi lotta contro la guerra \nCoordinamento cittadino per il ritiro immediato delle missioni militari italiane all’estero
URL:https://umanitanova.org/event/livorno-24-febbraio-manifestazione-contro-la-guerra/
CATEGORIES:Evento
END:VEVENT
BEGIN:VEVENT
DTSTART;TZID=Europe/Rome:20230224T210000
DTEND;TZID=Europe/Rome:20230224T233000
DTSTAMP:20260421T183045
CREATED:20230131T081117Z
LAST-MODIFIED:20230201T191749Z
UID:23730-1677272400-1677281400@umanitanova.org
SUMMARY:Trieste: concerto acustico delle Duora.ME
DESCRIPTION:CONCERTO ACUSTISCO DELLE Duora.ME \nTrieste 24 Febbraio alle ore 21 \nin Via del Bosco n.52 Trieste \norganizzato dal Gruppo Anarchico Germinal. \n  \n \n  \n  \n 
URL:https://umanitanova.org/event/trieste-performance-teatrale-delle-duora-me/
CATEGORIES:Evento
END:VEVENT
END:VCALENDAR