BEGIN:VCALENDAR
VERSION:2.0
PRODID:-// - ECPv6.15.20//NONSGML v1.0//EN
CALSCALE:GREGORIAN
METHOD:PUBLISH
X-ORIGINAL-URL:https://umanitanova.org
X-WR-CALDESC:Eventi per 
REFRESH-INTERVAL;VALUE=DURATION:PT1H
X-Robots-Tag:noindex
X-PUBLISHED-TTL:PT1H
BEGIN:VTIMEZONE
TZID:Europe/Rome
BEGIN:DAYLIGHT
TZOFFSETFROM:+0100
TZOFFSETTO:+0200
TZNAME:CEST
DTSTART:20210328T010000
END:DAYLIGHT
BEGIN:STANDARD
TZOFFSETFROM:+0200
TZOFFSETTO:+0100
TZNAME:CET
DTSTART:20211031T010000
END:STANDARD
BEGIN:DAYLIGHT
TZOFFSETFROM:+0100
TZOFFSETTO:+0200
TZNAME:CEST
DTSTART:20220327T010000
END:DAYLIGHT
BEGIN:STANDARD
TZOFFSETFROM:+0200
TZOFFSETTO:+0100
TZNAME:CET
DTSTART:20221030T010000
END:STANDARD
BEGIN:DAYLIGHT
TZOFFSETFROM:+0100
TZOFFSETTO:+0200
TZNAME:CEST
DTSTART:20230326T010000
END:DAYLIGHT
BEGIN:STANDARD
TZOFFSETFROM:+0200
TZOFFSETTO:+0100
TZNAME:CET
DTSTART:20231029T010000
END:STANDARD
END:VTIMEZONE
BEGIN:VEVENT
DTSTART;TZID=Europe/Rome:20221127T100000
DTEND;TZID=Europe/Rome:20221127T170000
DTSTAMP:20260422T035434
CREATED:20221127T170825Z
LAST-MODIFIED:20221127T170825Z
UID:23135-1669543200-1669568400@umanitanova.org
SUMMARY:Monfalcone: Incontro con Mario Condotto - Caffè Esperanto
DESCRIPTION:Domenica 27 novembre dalle ore 10 al Caffè Esperanto faremo un incontro con Mario Candotto\, già partigiano\, deportato e anarchico \n\n\n\n\nGià perché Mario – che conta 96 primavere – dalla fine degli anni ’40 ai primi anni ’70 è stato un attivista anarchico motivo per cui ha anche subito la repressione in seguito alla strage di piazza Fontana nel 1969. In seguito si è separato dal movimento libertario di cui è restato comunque un simpatizzante. \nLo incontriamo per parlare con lui della sua lunghissima esperienza e per trascorrere una mattinata e un pranzo in compagnia. \nSe ti vuoi fermare a pranzo porta ciò che vorresti trovare. \nSull’esperienza libertaria di Mario Candotto vedi “Anarchia no xe caos” da Germinal n. 117 \nhttp://ceghe.altervista.org/anarchia-no-xe-caos/
URL:https://umanitanova.org/event/monfalcone-incontro-con-mario-condotto-caffe-esperanto/
LOCATION:monfalcone
CATEGORIES:Evento
END:VEVENT
END:VCALENDAR