BEGIN:VCALENDAR
VERSION:2.0
PRODID:-// - ECPv6.15.20//NONSGML v1.0//EN
CALSCALE:GREGORIAN
METHOD:PUBLISH
X-ORIGINAL-URL:https://umanitanova.org
X-WR-CALDESC:Eventi per 
REFRESH-INTERVAL;VALUE=DURATION:PT1H
X-Robots-Tag:noindex
X-PUBLISHED-TTL:PT1H
BEGIN:VTIMEZONE
TZID:Europe/Rome
BEGIN:DAYLIGHT
TZOFFSETFROM:+0100
TZOFFSETTO:+0200
TZNAME:CEST
DTSTART:20220327T010000
END:DAYLIGHT
BEGIN:STANDARD
TZOFFSETFROM:+0200
TZOFFSETTO:+0100
TZNAME:CET
DTSTART:20221030T010000
END:STANDARD
BEGIN:DAYLIGHT
TZOFFSETFROM:+0100
TZOFFSETTO:+0200
TZNAME:CEST
DTSTART:20230326T010000
END:DAYLIGHT
BEGIN:STANDARD
TZOFFSETFROM:+0200
TZOFFSETTO:+0100
TZNAME:CET
DTSTART:20231029T010000
END:STANDARD
BEGIN:DAYLIGHT
TZOFFSETFROM:+0100
TZOFFSETTO:+0200
TZNAME:CEST
DTSTART:20240331T010000
END:DAYLIGHT
BEGIN:STANDARD
TZOFFSETFROM:+0200
TZOFFSETTO:+0100
TZNAME:CET
DTSTART:20241027T010000
END:STANDARD
END:VTIMEZONE
BEGIN:VEVENT
DTSTART;TZID=Europe/Rome:20231007T173000
DTEND;TZID=Europe/Rome:20231007T233000
DTSTAMP:20260419T173937
CREATED:20231004T174604Z
LAST-MODIFIED:20231004T174604Z
UID:25621-1696699800-1696721400@umanitanova.org
SUMMARY:CARRARA 07 OTTOBRE 2023 11 ANNI IMMAGINANDO MONDI NUOVI
DESCRIPTION:CARRARA 07 OTTOBRE 2023 ORE 18:00 \n11 ANNI IMMAGINANDO MONDI NUOVI \nSabato 07 Ottobre 2023 C/0 la Sede del Gruppo Anarchico Germinal di Carrara \nIn Piazza del Duomo di Carrara \nProgramma \nDibattito Pubblico Marmo ed Industria 4.0 \na seguire Musica e Buffet. \n  \nVi aspettiamo \n 
URL:https://umanitanova.org/event/carrara-07-ottobre-2023-11-anni-immaginando-mondi-nuovi/
CATEGORIES:Evento
END:VEVENT
BEGIN:VEVENT
DTSTART;TZID=Europe/Rome:20231026T203000
DTEND;TZID=Europe/Rome:20231026T233000
DTSTAMP:20260419T173937
CREATED:20231024T151233Z
LAST-MODIFIED:20231025T073623Z
UID:25712-1698352200-1698363000@umanitanova.org
SUMMARY:Pordenone: assemblea verso la manifestazione antimilitarista del 4 novembre
DESCRIPTION:
URL:https://umanitanova.org/event/pordenone-26-0tt0bre-circ-zapata-presentazione-contenuti-e-programma/
LOCATION:pordenone
CATEGORIES:Evento
END:VEVENT
END:VCALENDAR