BEGIN:VCALENDAR
VERSION:2.0
PRODID:-// - ECPv6.15.20//NONSGML v1.0//EN
CALSCALE:GREGORIAN
METHOD:PUBLISH
X-ORIGINAL-URL:https://umanitanova.org
X-WR-CALDESC:Eventi per 
REFRESH-INTERVAL;VALUE=DURATION:PT1H
X-Robots-Tag:noindex
X-PUBLISHED-TTL:PT1H
BEGIN:VTIMEZONE
TZID:Europe/Rome
BEGIN:DAYLIGHT
TZOFFSETFROM:+0100
TZOFFSETTO:+0200
TZNAME:CEST
DTSTART:20220327T010000
END:DAYLIGHT
BEGIN:STANDARD
TZOFFSETFROM:+0200
TZOFFSETTO:+0100
TZNAME:CET
DTSTART:20221030T010000
END:STANDARD
BEGIN:DAYLIGHT
TZOFFSETFROM:+0100
TZOFFSETTO:+0200
TZNAME:CEST
DTSTART:20230326T010000
END:DAYLIGHT
BEGIN:STANDARD
TZOFFSETFROM:+0200
TZOFFSETTO:+0100
TZNAME:CET
DTSTART:20231029T010000
END:STANDARD
BEGIN:DAYLIGHT
TZOFFSETFROM:+0100
TZOFFSETTO:+0200
TZNAME:CEST
DTSTART:20240331T010000
END:DAYLIGHT
BEGIN:STANDARD
TZOFFSETFROM:+0200
TZOFFSETTO:+0100
TZNAME:CET
DTSTART:20241027T010000
END:STANDARD
END:VTIMEZONE
BEGIN:VEVENT
DTSTART;TZID=Europe/Rome:20230406T173000
DTEND;TZID=Europe/Rome:20230406T233000
DTSTAMP:20260421T155830
CREATED:20230316T111002Z
LAST-MODIFIED:20230316T111002Z
UID:24244-1680802200-1680823800@umanitanova.org
SUMMARY:MILANO: presentazione del libro di Mauro De Agostini\, Abbattere le mura del cielo (Ed. Zero in condotta)
DESCRIPTION:MILANO: GIOVEDI’ 6 APRILE 2023\, ORE 18.00\nPresentazione del libro di Mauro De Agostini\,\nAbbattere le mura del cielo\n(Ed. Zero in condotta)\npresso Biblioteca Chiesa Rossa\nVia San Domenico Savio 3 – 20141 Milano\n(tram 3 e 15; MM2/verde-capolinea piazza Abbiategrasso)\nLA COMPLESSITA’ DEL MOVIMENTO DEGLI ANNI ‘70\nDagli anni dell’assalto al cielo a quelli del riflusso\nInterventi di\nMauro De Agostini\, Franco Schirone\nModera Bruno Contardi
URL:https://umanitanova.org/event/milano-presentazione-del-libro-di-mauro-de-agostini-abbattere-le-mura-del-cielo-ed-zero-in-condotta/
CATEGORIES:Evento
END:VEVENT
BEGIN:VEVENT
DTSTART;TZID=Europe/Rome:20230424T173000
DTEND;TZID=Europe/Rome:20230424T233000
DTSTAMP:20260421T155830
CREATED:20230420T204334Z
LAST-MODIFIED:20230421T123822Z
UID:24622-1682357400-1682379000@umanitanova.org
SUMMARY:Carrara: Cena di Sottoscrizione e posa dei fiori
DESCRIPTION:IL 24 APRILE IN PIAZZA DELLE ERBE CARRARA SI RICORDANO LE DONNE CHE HANNO FATTO LA RESISTENZA CON LA  POSA DI FIORI E DOPO UNA CENA A SOTTOSCRIZIONE LIBERA A SOSTEGNO DEL GRUPPO ANARCHICO GERMINAL FAI CARRARA. \nSIETE TUTTI INVITATI
URL:https://umanitanova.org/event/carrara-24-aprile-cena-di-sottoscrizione-posa-dei-fiori/
CATEGORIES:Evento
END:VEVENT
END:VCALENDAR