BEGIN:VCALENDAR
VERSION:2.0
PRODID:-// - ECPv6.15.20//NONSGML v1.0//EN
CALSCALE:GREGORIAN
METHOD:PUBLISH
X-ORIGINAL-URL:https://umanitanova.org
X-WR-CALDESC:Eventi per 
REFRESH-INTERVAL;VALUE=DURATION:PT1H
X-Robots-Tag:noindex
X-PUBLISHED-TTL:PT1H
BEGIN:VTIMEZONE
TZID:Europe/Rome
BEGIN:DAYLIGHT
TZOFFSETFROM:+0100
TZOFFSETTO:+0200
TZNAME:CEST
DTSTART:20220327T010000
END:DAYLIGHT
BEGIN:STANDARD
TZOFFSETFROM:+0200
TZOFFSETTO:+0100
TZNAME:CET
DTSTART:20221030T010000
END:STANDARD
BEGIN:DAYLIGHT
TZOFFSETFROM:+0100
TZOFFSETTO:+0200
TZNAME:CEST
DTSTART:20230326T010000
END:DAYLIGHT
BEGIN:STANDARD
TZOFFSETFROM:+0200
TZOFFSETTO:+0100
TZNAME:CET
DTSTART:20231029T010000
END:STANDARD
BEGIN:DAYLIGHT
TZOFFSETFROM:+0100
TZOFFSETTO:+0200
TZNAME:CEST
DTSTART:20240331T010000
END:DAYLIGHT
BEGIN:STANDARD
TZOFFSETFROM:+0200
TZOFFSETTO:+0100
TZNAME:CET
DTSTART:20241027T010000
END:STANDARD
END:VTIMEZONE
BEGIN:VEVENT
DTSTART;TZID=Europe/Rome:20230305T110000
DTEND;TZID=Europe/Rome:20230305T233000
DTSTAMP:20260421T155906
CREATED:20230223T175827Z
LAST-MODIFIED:20230301T162526Z
UID:24023-1678014000-1678059000@umanitanova.org
SUMMARY:Passo Corese (RI): Squaresima libertaria.
DESCRIPTION:  \nDomenica 5 marzo Squaresima libertaria a Passo Corese (RI)\nA Poggio Mirteto dal 1861\, in occasione della rivolta della città contro il dominio pontificio\, si decise\, con chiaro intento anticlericale\, di celebrare il carnevale in periodo di quaresima. \nLa festa fu soppressa dal fascismo\, in occasione dei patti lateranensi\, nel 1929. \nDal 1977\, per iniziativa dei compagni e degli anticlericali della zona\, si è ripresa l’antica tradizione festeggiando\, la prima domenica di quaresima\, il carnevalone liberato. \nQuest’anno per l’opposizione di questura e prefettura\, con la scusa dei permessi per la somministrazione di cibi e bevande\, il carnevalone non si terrà. Negli ultimi tre anni non si è potuto tenere con la motivazione dell’emergenza sanitaria. \nC’è la chiara volontà di interrompere la tradizione anticlericale ripristinando\, questa volta per via amministrativa\, il divieto fascista. \nGli anarchici e libertari della Sabina hanno deciso allora di lanciare la “Squaresima libertaria”. \nsQuaresima Libertaria 2023 \n“NON ASCOLTATELO!” \nSabina Libertaria\, gruppo libertario della bassa Sabina\, invita tutti e tutte a partecipare alla sQuaresima Libertaria il 5 marzo 2023 a Passo Corese (RI). \nData l’assenza dello storico Carnevalone di Poggio Mirteto\, fiore all’occhiello delle feste di protesta e libera cultura della storia del nostro territorio\, questa seconda domenica di Quaresima (tradizionale periodo precedente la Pasqua cristiana) sarà per noi occasione di riflessioni\, conferenze\, discussioni\, divertimento\, mangiate\, bevute e canti all’insegna dell’anticlericalismo con tanto di Info-Point per lo sbattezzo. \nDurante la giornata poi\, le compagne e i compagni di Sabina Libertaria presenteranno le nuove attività di autoproduzione e sarà possibile provare i prodotti creati dal collettivo “I Solidi Saponi”. \nVisto il clima repressivo e giustizialista sempre più incalzante verso ogni forma di dissenso\, come libertari e libertarie presenti ed attivi da anni nel nostro territorio\, abbiamo deciso di “rispondere” come sempre abbiamo fatto: diffondendo e condividendo pubblicamente cultura\, incentivando e sviluppando lo spirito critico verso la realtà che ci circonda e attuando pratiche orizzontali alternative alle logiche del capitale e del consumo globalisti nella vita di ogni giorno per provare nel nostro piccolo a costruire una società più libera\, consapevole e giusta; in questo quadro mettere in discussione ed approfondire ciò che la religione rappresenta e ci propone è di fondamentale importanza per potersi emancipare in coscienza da dogmi che\, volenti o nolenti\, incombono su tutti e tutte noi che siamo parte della società \n——————— \nh11:00 \nAperitivo di benvenuto\, conferenza: \n“BERGOGLIO\, GESUITI E POTERE” \n tenuta dal prof. Carlo Modesti Pauer (antropologo ed esperto di religione Cristiana) \n Circa due mesi fa abbiamo visto uno storico e celeberrimo sindacato legato alla sinistra istituzionale chiedere udienza per 5000 dirigenti al papa Bergoglio al fine di estendere a lui una richiesta di collaborazione solidale nell’interesse dell’emancipazione dei lavoratori e dei più poveri\, con l’auspicio d’una migliore giustizia sociale e di una “sempreverde” ridistribuzione economica. Già\, perché questo gesuita divenuto papa col nome “Francesco” è riuscito nel tempo a costruire attorno a sé questa “maschera” di paladino del popolo\, dei poveri e degli sfruttati. Probabilmente è il consenso già riscontrato di molte associazioni cattoliche vicine al pensiero del pontefice ad aver fatto gola al sindacato che ha lanciato questa vivace idea di collaborazione tra laici e cattolici… Ma chi è Bergoglio? Da quale passato viene? Cosa rappresenta all’interno alla Chiesa che guida? Che ruolo ha avuto nelle rivolte sociali in Argentina e Sudamerica? Cos’è la Teologia del Popolo?… e ancora Chi sono i Gesuiti? Che ruolo hanno avuto nella storia e che rapporti hanno avuto\, ieri e oggi\, col potere in Italia e all’estero? \nProprio per rispondere a queste domande\, fare chiarezza e non lasciarsi illudere da mosse politiche che nulla hanno a che vedere con l’interesse dei più socialmente ed economicamente deboli\, il nostro gruppo ha invitato il prof. Carlo Modesti Pauer a guidarci in una conferenza che sarà una valutazione del pensiero e dell’operato dell’attuale papato attraverso un percorso storico\, sociale e culturale sulla sua figura e sull’ordine al quale il pontefice appartiene. Per capire\, approfondire ed emanciparsi con consapevolezza. \ndurante la giornata: \n– Presentazione autoproduzioni del collettivo: “I Solidi Saponi” \n– Giochi e canti tradizionali anticlericali \n– Info-Point Sbattezzo \nPRANZO A (MODESTA) SOTTOSCRIZIONE \n!!!POSTI LIMITATI!!! \nPer info e prenotazione: \nsabinalibertaria@autistici.org \ntel: 334/3402568 \n 
URL:https://umanitanova.org/event/passo-corese-ri-domenica-5-marzo-squaresima-libertaria/
CATEGORIES:Evento
END:VEVENT
BEGIN:VEVENT
DTSTART;TZID=Europe/Rome:20230306T193000
DTEND;TZID=Europe/Rome:20230306T233000
DTSTAMP:20260421T155906
CREATED:20230306T111750Z
LAST-MODIFIED:20230306T111750Z
UID:24133-1678131000-1678145400@umanitanova.org
SUMMARY:Bologna : benefit per il Boak
DESCRIPTION:1) Lunedì 6/3 – Mensa Popolare Autogestita – Benefit per il BOAK\n2) Venerdì 10/3 – CineSpaccio presenta “Neofascisti d’Italia”\n3) Lunedì 13/3 – Cena Lucana Benefit Inguaiat* con la legge \n1) Mensa Popolare Autogestita – Benefit per il BOAK\nLunedì 6/3\nDalle ore 20\nLa cena di Lunedì andrà a finanziare il fondo di supporto del BOAK\, “Organizzazione di combattimento degli anarco-comunisti” russi.\nIl BOAK è un gruppo d’azione diretta anarco-comunista russo\, che dall’inizio dell’invasione dell’Ucraina da parte della Federazione Russa si è dedicato ad azioni di sabotaggio ai danni delle linee ferroviarie dell’esercito e azioni incendiarie nei confronti dei centri di reclutamento dell’esercito. \n2) CineSpaccio presenta “Neofascisti d’Italia”\nVenerdì 10/3\nDalle ore 18.30 aperitivo e introduzione “Conoscerli per stanarli” a cura di Enrico\nDalle ore 20.30 proiezione di “Neofascisti d’Italia”\, 33′\, Carmen Butta \n“Dio\, patria\, famiglia”: sono questi i valori che dicono di sostenere\, da nord a sud\, i neofascisti italiani. La vittoria del partito di estrema destra Fratelli d’Italia alle ultime elezioni legislative ha esaltato quegli italiani che guardano con nostalgia a Benito Mussolini.” \n3) Cena Lucana Benefit Inguaiat* con la legge\nLunedì 13/3\nDalle ore 19 – Presentazione e discussione sul CPR di Palazzo San Gervasio (PZ) e commento sulle misure repressive che hanno colpito 17 compagn*\nDalle ore 20.30 – CENA LUCANA BENEFIT – Menu Vegan \nIniziativa in solidarietà alle lotte contro il Centro di Permanenza per i Rimpatri di Palazzo San Gervasio (PZ) portate avanti dalle compagne della Basilicata.\nIl CPR è uno strumento di tortura legalizzato in cui reclusi sono sottoposti quotidianamente ad abusi e violenze. Recentemente è stato il servizio della trasmissione Striscia la notizia a trasmettere le immagini delle condizioni di prigionia delle persone recluse all’interno del CPR di Palazzo San Gervasio.\nPresso il tribunale di Potenza è in corso un processo contro 17 persone che in passato hanno partecipato ad appuntamenti di lotta fuori dal CPR di Palazzo San Gervasio a sostegno delle persone reculse. L’accusa che ci rivolgono è di istigazione a disobbedire alle leggi dello stato\, ovvero un insulto che ha radici nel razzismo di stato. \nCon il pensiero a chi si ribella nei centri di espulsione e nelle galere.\nCon la massima solidarietà a chi non si dà pace e lotta contro la guerra che ogni giorno ci dichiarano dall’alto.\nNO AI CPR\, NO AI LAGER DI STATO \n+++++++ \nQui trovi il CALENDARIO DELLE ATTIVITA’ >> https://circoloberneri.indivia.net/calendario \n+++++++ \nDAL LUNEDI’ AL VENERDI’:\n+ dalle 10 alle 19 SALA STUDIO\nDato che ci possono essere delle difficoltà a dare sempre continuità rimandiamo al canale telegram per avere aggiornamenti quotidiani sulle aperture (https://t.me/soppaula)\n+ su richiesta apertura della biblioteca Elio Xerri https://circoloberneri.indivia.net/biblioteca-elio-xerri\nPer prestiti e consultazioni testi. L’archivio della biblioteca (ancora in fase di completamento e di aggiornamento) è consultabile tramite il portale RebAl (http://www.rebal.info ). Puoi trovare un manualetto di accesso all’archivio digitale ed a quello cartaceo presso la pagina della biblioteca sul nostro sito. \nTUTTI I LUNEDÌ:\n+ dalle 19:30 Assemblea Radio Spore\nhttps://radiospore.oziosi.org/\nhttps://mastodon.bida.im/@radiospore\nRadio Spore è una radio libera e autogestita bolognese nata nello spazio pubblico autogestito Xm24 nel 2018. \nTUTTI I MERCOLEDI’:\n+ dalle 17.30 alle 20 SPACCIO POPOLARE AUTOGESTITO\n(https://mastodon.bida.im/@spacciopopolareautogestito)\, allo SPA trovi generi alimentari prodotti senza sfruttamento della terra e delle persone\n+ dalle 19 CICLOFFICINA POPOLARE AMPIORAGGIO \nTUTTI I GIOVEDI’:\n+ dalle 20.30 ASSEMBLEA DEL CIRCOLO ANARCHICO BERNERI \nOGNI DUE VENERDI’:\n+ dalle 16 alle 17.30 COLONNA SOLIDALE AUTOGESTITA\n(https://colonnasolidale.org/)\, distribuzione di spese sospese. Se puoi\, porta riso\, pasta\, legumi o beni di prima necessità\, oppure fai una donazione qui www.produzionidalbasso.com/project/supporta-le-distribuzioni-solidali/.\nAssemblea ogni due martedì alle 19.30 al Circolo Berneri \n+++++++ \nTutti i progetti sono autogestiti e autorganizzati in maniera orizzontale\, le decisioni sono prese collettivamente in assemblea col metodo del consenso. \nSiamo aperte alle proposte e alla partecipazione\, se sei interessata/o/*: \nvieni il GIOVEDI DALLE 21 in assemblea (Piazza di Porta S. Stefano 1\, Bologna)\n– o contattaci durante le altre giornate e serate di apertura\n– o scrivi una mail a berneri @ autistici . org\n—\nCircoloberneri mailing list\nCircoloberneri@autistici.org\nhttps://noise.autistici.org/mailman/listinfo/circoloberneri
URL:https://umanitanova.org/event/bologna-benefit-per-il-boak/
CATEGORIES:Evento
END:VEVENT
BEGIN:VEVENT
DTSTART;TZID=Europe/Rome:20230308T090000
DTEND;TZID=Europe/Rome:20230308T190000
DTSTAMP:20260421T155906
CREATED:20230306T113904Z
LAST-MODIFIED:20230306T113904Z
UID:24146-1678266000-1678302000@umanitanova.org
SUMMARY:Reggio Emilia: 8 Marzo sciopero generale Presidio in Piazza Casotti
DESCRIPTION:Reggio Emilia: \n8 Marzo 2023 Sciopero generale dalle 10:30 Presidio in Piazza Casotti Reggio Emilia \nWelfare Universale \nParità Salariale nei luoghi di lavoro \n  \n \n  \n 
URL:https://umanitanova.org/event/reggio-emilia-8-marzo-sciopero-generale-presidio-in-piazza-casotti/
CATEGORIES:Evento
END:VEVENT
BEGIN:VEVENT
DTSTART;TZID=Europe/Rome:20230308T193000
DTEND;TZID=Europe/Rome:20230308T233000
DTSTAMP:20260421T155906
CREATED:20230306T114813Z
LAST-MODIFIED:20230306T114813Z
UID:24149-1678303800-1678318200@umanitanova.org
SUMMARY:Reggio Emilia: donne Iraniane e Curde per la Libertà
DESCRIPTION:Donne Iraniane e Curde per la libertà \nintervengono online: \nMonir\, giornalista freelance iraniano \nGiacomo Sini\, attivista della federazione Anarchica Livornese\, fotoreporter e giornalista freelance (L’espresso\, Domani editoriale\, Der Spiegel\, el Pais\, Ara\, Naiz/Gara. \n  \n19:45 Cena (gradita la prenotazione) \n21:15 Inizio interventi e dibattito a seguire \nPer info e Prenotazioni 349 875 7498 \nCircolo Berneri Via Don Minzoni 1/D Reggio Emilia
URL:https://umanitanova.org/event/reggio-emilia-donne-iraniane-e-curde-per-la-liberta/
CATEGORIES:Evento
END:VEVENT
BEGIN:VEVENT
DTSTART;TZID=Europe/Rome:20230310T180000
DTEND;TZID=Europe/Rome:20230310T233000
DTSTAMP:20260421T155906
CREATED:20230306T112109Z
LAST-MODIFIED:20230306T112109Z
UID:24139-1678471200-1678491000@umanitanova.org
SUMMARY:Bologna: cineSpaccio presenta "Neofascisti d'Italia"
DESCRIPTION:1) CineSpaccio presenta “Neofascisti d’Italia”\nVenerdì 10/3\nDalle ore 18.30 aperitivo e introduzione “Conoscerli per stanarli” a cura di Enrico\nDalle ore 20.30 proiezione di “Neofascisti d’Italia”\, 33′\, Carmen Butta \n“Dio\, patria\, famiglia”: sono questi i valori che dicono di sostenere\, da nord a sud\, i neofascisti italiani. La vittoria del partito di estrema destra Fratelli d’Italia alle ultime elezioni legislative ha esaltato quegli italiani che guardano con nostalgia a Benito Mussolini.” \n2) Cena Lucana Benefit Inguaiat* con la legge\nLunedì 13/3\nDalle ore 19 – Presentazione e discussione sul CPR di Palazzo San Gervasio (PZ) e commento sulle misure repressive che hanno colpito 17 compagn*\nDalle ore 20.30 – CENA LUCANA BENEFIT – Menu Vegan \nIniziativa in solidarietà alle lotte contro il Centro di Permanenza per i Rimpatri di Palazzo San Gervasio (PZ) portate avanti dalle compagne della Basilicata.\nIl CPR è uno strumento di tortura legalizzato in cui reclusi sono sottoposti quotidianamente ad abusi e violenze. Recentemente è stato il servizio della trasmissione Striscia la notizia a trasmettere le immagini delle condizioni di prigionia delle persone recluse all’interno del CPR di Palazzo San Gervasio.\nPresso il tribunale di Potenza è in corso un processo contro 17 persone che in passato hanno partecipato ad appuntamenti di lotta fuori dal CPR di Palazzo San Gervasio a sostegno delle persone reculse. L’accusa che ci rivolgono è di istigazione a disobbedire alle leggi dello stato\, ovvero un insulto che ha radici nel razzismo di stato. \nCon il pensiero a chi si ribella nei centri di espulsione e nelle galere.\nCon la massima solidarietà a chi non si dà pace e lotta contro la guerra che ogni giorno ci dichiarano dall’alto.\nNO AI CPR\, NO AI LAGER DI STATO \n+++++++ \nQui trovi il CALENDARIO DELLE ATTIVITA’ >> https://circoloberneri.indivia.net/calendario \n+++++++ \nDAL LUNEDI’ AL VENERDI’:\n+ dalle 10 alle 19 SALA STUDIO\nDato che ci possono essere delle difficoltà a dare sempre continuità rimandiamo al canale telegram per avere aggiornamenti quotidiani sulle aperture (https://t.me/soppaula)\n+ su richiesta apertura della biblioteca Elio Xerri https://circoloberneri.indivia.net/biblioteca-elio-xerri\nPer prestiti e consultazioni testi. L’archivio della biblioteca (ancora in fase di completamento e di aggiornamento) è consultabile tramite il portale RebAl (http://www.rebal.info ). Puoi trovare un manualetto di accesso all’archivio digitale ed a quello cartaceo presso la pagina della biblioteca sul nostro sito. \nTUTTI I LUNEDÌ:\n+ dalle 19:30 Assemblea Radio Spore\nhttps://radiospore.oziosi.org/\nhttps://mastodon.bida.im/@radiospore\nRadio Spore è una radio libera e autogestita bolognese nata nello spazio pubblico autogestito Xm24 nel 2018. \nTUTTI I MERCOLEDI’:\n+ dalle 17.30 alle 20 SPACCIO POPOLARE AUTOGESTITO\n(https://mastodon.bida.im/@spacciopopolareautogestito)\, allo SPA trovi generi alimentari prodotti senza sfruttamento della terra e delle persone\n+ dalle 19 CICLOFFICINA POPOLARE AMPIORAGGIO \nTUTTI I GIOVEDI’:\n+ dalle 20.30 ASSEMBLEA DEL CIRCOLO ANARCHICO BERNERI \nOGNI DUE VENERDI’:\n+ dalle 16 alle 17.30 COLONNA SOLIDALE AUTOGESTITA\n(https://colonnasolidale.org/)\, distribuzione di spese sospese. Se puoi\, porta riso\, pasta\, legumi o beni di prima necessità\, oppure fai una donazione qui www.produzionidalbasso.com/project/supporta-le-distribuzioni-solidali/.\nAssemblea ogni due martedì alle 19.30 al Circolo Berneri \n+++++++ \nTutti i progetti sono autogestiti e autorganizzati in maniera orizzontale\, le decisioni sono prese collettivamente in assemblea col metodo del consenso. \nSiamo aperte alle proposte e alla partecipazione\, se sei interessata/o/*: \nvieni il GIOVEDI DALLE 21 in assemblea (Piazza di Porta S. Stefano 1\, Bologna)\n– o contattaci durante le altre giornate e serate di apertura\n– o scrivi una mail a berneri @ autistici . org\n—\nCircoloberneri mailing list\nCircoloberneri@autistici.org\nhttps://noise.autistici.org/mailman/listinfo/circoloberneri
URL:https://umanitanova.org/event/bologna-cinespaccio-presenta-neofascisti-ditalia/
CATEGORIES:Evento
END:VEVENT
BEGIN:VEVENT
DTSTART;TZID=Europe/Rome:20230310T200000
DTEND;TZID=Europe/Rome:20230310T233000
DTSTAMP:20260421T155906
CREATED:20230306T113300Z
LAST-MODIFIED:20230306T113300Z
UID:24143-1678478400-1678491000@umanitanova.org
SUMMARY:Alessandria :  Proiezione Nomadland C/O Laboratorio Anarchico PerlaNera
DESCRIPTION:Proiezione al Laboratorio Anarchico PerlaNera.\nINGRESSO GRATUITO\nNOMADLAND\nEmpire\, stato del Nevada. Nel 1988 la fabbrica presso cui Fern e suo marito Bo hanno lavorato tutta la vita ha chiuso i battenti\, lasciando i dipendenti letteralmente per strada. Anche Bo se ne è andato\, dopo una lunga malattia\, e ora il mondo di Fern si divide fra un garage in cui sono rinchiuse tutte le cose del marito e un van che la donna ha riempito di tutto ciò che ha ancora per lei un significato materico. Vive di lavoretti saltuari poiché non ha diritto ai sussidi statali e non ha l’età per riciclarsi in un Paese in crisi\, e si sposta di posteggio in posteggio\, cercando di tenere insieme il puzzle scomposto della propria vita.
URL:https://umanitanova.org/event/alessandria-proiezione-nomadland-c-o-laboratorio-anarchico-perlanera/
CATEGORIES:Evento
END:VEVENT
BEGIN:VEVENT
DTSTART;TZID=Europe/Rome:20230313T183000
DTEND;TZID=Europe/Rome:20230313T233000
DTSTAMP:20260421T155906
CREATED:20230306T112335Z
LAST-MODIFIED:20230306T112335Z
UID:24141-1678732200-1678750200@umanitanova.org
SUMMARY:Bologna: cena Lucana Benefit Inguaiat* con la legge
DESCRIPTION:Cena Lucana Benefit Inguaiat* con la legge\nLunedì 13/3\nDalle ore 19 – Presentazione e discussione sul CPR di Palazzo San Gervasio (PZ) e commento sulle misure repressive che hanno colpito 17 compagn*\nDalle ore 20.30 – CENA LUCANA BENEFIT – Menu Vegan \nIniziativa in solidarietà alle lotte contro il Centro di Permanenza per i Rimpatri di Palazzo San Gervasio (PZ) portate avanti dalle compagne della Basilicata.\nIl CPR è uno strumento di tortura legalizzato in cui reclusi sono sottoposti quotidianamente ad abusi e violenze. Recentemente è stato il servizio della trasmissione Striscia la notizia a trasmettere le immagini delle condizioni di prigionia delle persone recluse all’interno del CPR di Palazzo San Gervasio.\nPresso il tribunale di Potenza è in corso un processo contro 17 persone che in passato hanno partecipato ad appuntamenti di lotta fuori dal CPR di Palazzo San Gervasio a sostegno delle persone reculse. L’accusa che ci rivolgono è di istigazione a disobbedire alle leggi dello stato\, ovvero un insulto che ha radici nel razzismo di stato. \nCon il pensiero a chi si ribella nei centri di espulsione e nelle galere.\nCon la massima solidarietà a chi non si dà pace e lotta contro la guerra che ogni giorno ci dichiarano dall’alto.\nNO AI CPR\, NO AI LAGER DI STATO \n+++++++ \nQui trovi il CALENDARIO DELLE ATTIVITA’ >> https://circoloberneri.indivia.net/calendario \n+++++++ \nDAL LUNEDI’ AL VENERDI’:\n+ dalle 10 alle 19 SALA STUDIO\nDato che ci possono essere delle difficoltà a dare sempre continuità rimandiamo al canale telegram per avere aggiornamenti quotidiani sulle aperture (https://t.me/soppaula)\n+ su richiesta apertura della biblioteca Elio Xerri https://circoloberneri.indivia.net/biblioteca-elio-xerri\nPer prestiti e consultazioni testi. L’archivio della biblioteca (ancora in fase di completamento e di aggiornamento) è consultabile tramite il portale RebAl (http://www.rebal.info ). Puoi trovare un manualetto di accesso all’archivio digitale ed a quello cartaceo presso la pagina della biblioteca sul nostro sito. \nTUTTI I LUNEDÌ:\n+ dalle 19:30 Assemblea Radio Spore\nhttps://radiospore.oziosi.org/\nhttps://mastodon.bida.im/@radiospore\nRadio Spore è una radio libera e autogestita bolognese nata nello spazio pubblico autogestito Xm24 nel 2018. \nTUTTI I MERCOLEDI’:\n+ dalle 17.30 alle 20 SPACCIO POPOLARE AUTOGESTITO\n(https://mastodon.bida.im/@spacciopopolareautogestito)\, allo SPA trovi generi alimentari prodotti senza sfruttamento della terra e delle persone\n+ dalle 19 CICLOFFICINA POPOLARE AMPIORAGGIO \nTUTTI I GIOVEDI’:\n+ dalle 20.30 ASSEMBLEA DEL CIRCOLO ANARCHICO BERNERI \nOGNI DUE VENERDI’:\n+ dalle 16 alle 17.30 COLONNA SOLIDALE AUTOGESTITA\n(https://colonnasolidale.org/)\, distribuzione di spese sospese. Se puoi\, porta riso\, pasta\, legumi o beni di prima necessità\, oppure fai una donazione qui www.produzionidalbasso.com/project/supporta-le-distribuzioni-solidali/.\nAssemblea ogni due martedì alle 19.30 al Circolo Berneri \n+++++++ \nTutti i progetti sono autogestiti e autorganizzati in maniera orizzontale\, le decisioni sono prese collettivamente in assemblea col metodo del consenso. \nSiamo aperte alle proposte e alla partecipazione\, se sei interessata/o/*: \nvieni il GIOVEDI DALLE 21 in assemblea (Piazza di Porta S. Stefano 1\, Bologna)\n– o contattaci durante le altre giornate e serate di apertura\n– o scrivi una mail a berneri @ autistici . org\n—\nCircoloberneri mailing list\nCircoloberneri@autistici.org\nhttps://noise.autistici.org/mailman/listinfo/circoloberneri
URL:https://umanitanova.org/event/bologna-cena-lucana-benefit-inguaiat-con-la-legge/
CATEGORIES:Evento
END:VEVENT
BEGIN:VEVENT
DTSTART;TZID=Europe/Rome:20230317T183000
DTEND;TZID=Europe/Rome:20230317T233000
DTSTAMP:20260421T155906
CREATED:20230315T061847Z
LAST-MODIFIED:20230315T061847Z
UID:24241-1679077800-1679095800@umanitanova.org
SUMMARY:Milano: Malatesta mon amour: imprevista vita di un rivoluzionario. Incontro con Max Varengo
DESCRIPTION:Venerdi 17 Marzo  \nDalle ore 19:30 \nC/O TRATTORIA POPOLARE ARCI TRAVERSO \nVia Ambrogio Figino 13 MILANO \n  \nMalatesta mon amour: imprevista vita di un rivoluzionario \nErrico Malataesta (1853-1932)\, l’anarchico campano temuto e inseguito da tutte le polizie del mondo; una vita di lotta\, esilio\, prigione. Ma anche fine teorico e instancabile pubblicista.\nNegli ultimi anni della sua vita si trova a sfidare un ultimo mostro: il fascismo che ebbe paura ad incarcerarlo. Anni utili per portare a maturazione la sua riflessione politica sulle pagine di ‘Pensiero e Volontà’. Sulla sua tomba per un decennio sarà impossibile mettere un fiore grazie all’occhiuto controllo poliziesco. \nNe parliamo alle 19.30 vere con MASSIMO VARENGO editore dell’ultimo volume ‘Errico Malatesta. Anarchismo realizzabile e realizzatore’ (Ed. Zero in Condotta) ottavo volume delle opere complete malatestiane curate da Davide Turcato.\nPoi tutti assieme a tavola. \n 
URL:https://umanitanova.org/event/milano-malatesta-mon-amour-imprevista-vita-di-un-rivoluzionario-incontro-con-max-varengo/
CATEGORIES:Evento
END:VEVENT
BEGIN:VEVENT
DTSTART;TZID=Europe/Rome:20230318T180000
DTEND;TZID=Europe/Rome:20230318T233000
DTSTAMP:20260421T155906
CREATED:20230307T101935Z
LAST-MODIFIED:20230307T101935Z
UID:24162-1679162400-1679182200@umanitanova.org
SUMMARY:Pordenone:  presentazione 20 anni di Balkan Anarchist Bookfair
DESCRIPTION:Sabato 18 Marzo \nAlle Ore 18:00 \nC/O Circolo Libertario E. Zapata Biblioteca Mauro Cancian \nVia Ungaresca\, 38 Pordenone \n20 ANNI DI BALKAN ANARCHIST BOOKFAIR: \nOLTRE I MURI DEL NAZIONALISMO E DELLA GUERRA \n  \nPRESENTAZIONE DEL PROGETTO E DELL’EVENTO CON I COMPAGN* DI LJUBLJANA DELL’ASSEMBLEA ORGANIZZATIVA DELLA BAB 2023. \n  \n  \n 
URL:https://umanitanova.org/event/pordenone-presentazione-20-anni-di-balkan-anarchist-bookfair/
CATEGORIES:Evento
END:VEVENT
BEGIN:VEVENT
DTSTART;TZID=Europe/Rome:20230324T203000
DTEND;TZID=Europe/Rome:20230324T233000
DTSTAMP:20260421T155906
CREATED:20230313T170057Z
LAST-MODIFIED:20230313T170057Z
UID:24187-1679689800-1679700600@umanitanova.org
SUMMARY:Trieste : concerto dei  the Bonfire Kids e di Kelly Simons
DESCRIPTION:Trieste \n24 Marzo 2023 \nDalle Ore 21 \nin via del Bosco 52 C/O Il Gruppo Anarchico Germinal \nThe Bonefire Kids  Kelly Simon \nper info contattare: \ngerminalts.noblogs.org
URL:https://umanitanova.org/event/trieste-concerto-dei-the-bonfire-kids-e-di-kelly-simons/
CATEGORIES:Evento
END:VEVENT
BEGIN:VEVENT
DTSTART;TZID=Europe/Rome:20230325T180000
DTEND;TZID=Europe/Rome:20230325T233000
DTSTAMP:20260421T155906
CREATED:20230307T102522Z
LAST-MODIFIED:20230307T102522Z
UID:24165-1679767200-1679787000@umanitanova.org
SUMMARY:PORDENONE: presentazione libro : Anarchia e Cooperazione
DESCRIPTION:SABATO 25 MARZO \nDALLE ORE 18:00 \nC/O CIRCOLO LIBERTARIO E.ZAPATA \nBIBLIOTECA MAURO CANCIAN \nVIA UNGARESCA\, 3B \nPORDENONE \n  \nPRESENTAZIONE DEL LIBRO ” ANARCHIA E COOPERAZIONE \nAlle origini di un rapporto (1861 – 1914) \nINTERVERRA’ L’AUTORE \nANTONIO SENTA. \n  \nSEGUE DIBATTITO E CENA SOCIALE \nENTRATA LIBERA.
URL:https://umanitanova.org/event/pordenone-presentazione-libro-anarchia-e-cooperazione/
CATEGORIES:Evento
END:VEVENT
END:VCALENDAR