BEGIN:VCALENDAR
VERSION:2.0
PRODID:-// - ECPv6.15.20//NONSGML v1.0//EN
CALSCALE:GREGORIAN
METHOD:PUBLISH
X-ORIGINAL-URL:https://umanitanova.org
X-WR-CALDESC:Eventi per 
REFRESH-INTERVAL;VALUE=DURATION:PT1H
X-Robots-Tag:noindex
X-PUBLISHED-TTL:PT1H
BEGIN:VTIMEZONE
TZID:Europe/Rome
BEGIN:DAYLIGHT
TZOFFSETFROM:+0100
TZOFFSETTO:+0200
TZNAME:CEST
DTSTART:20220327T010000
END:DAYLIGHT
BEGIN:STANDARD
TZOFFSETFROM:+0200
TZOFFSETTO:+0100
TZNAME:CET
DTSTART:20221030T010000
END:STANDARD
BEGIN:DAYLIGHT
TZOFFSETFROM:+0100
TZOFFSETTO:+0200
TZNAME:CEST
DTSTART:20230326T010000
END:DAYLIGHT
BEGIN:STANDARD
TZOFFSETFROM:+0200
TZOFFSETTO:+0100
TZNAME:CET
DTSTART:20231029T010000
END:STANDARD
BEGIN:DAYLIGHT
TZOFFSETFROM:+0100
TZOFFSETTO:+0200
TZNAME:CEST
DTSTART:20240331T010000
END:DAYLIGHT
BEGIN:STANDARD
TZOFFSETFROM:+0200
TZOFFSETTO:+0100
TZNAME:CET
DTSTART:20241027T010000
END:STANDARD
END:VTIMEZONE
BEGIN:VEVENT
DTSTART;TZID=Europe/Rome:20230118T190000
DTEND;TZID=Europe/Rome:20230118T233000
DTSTAMP:20260421T182215
CREATED:20230117T072907Z
LAST-MODIFIED:20230117T083412Z
UID:23575-1674068400-1674084600@umanitanova.org
SUMMARY:Roma : cineforum Garbatell(A) 2023  L'Africa e Noi.. "Soleil Ô" (1967) di Med Hondo.
DESCRIPTION:  \nDal 18 gennaio apriamo il nuovo anno con un cineforum dedicato ai rapporti tra l’Africa e l’Europa. Cinema africano che parla di Europa\, cinema europeo che parla di Africa e filmati anonimi di europei in Africa. Qui intendiamo Europa come Occidente in genere\, Europa come luogo privilegiato dove si è inventato colonialismo\, neocolonialismo e dove le conseguenze dello sfruttamento capitalistico in Africa si chiamano immigrazione o anche (alla fascista) invasione\, e le vittime si chiamano migranti nel migliore dei casi\, clandestini secondo la nostra legge. \nMercoledì 18 gennaio apriamo con “Soleil Ô” (1967) di Med Hondo\, regista mauritano vissuto a Parigi dal 1959. Film simbolo del ’68 africano\, denuncia attraverso la storia esemplare di un immigrato in Francia in cerca di lavoro il razzismo endemico\, la violenza ma anche la connivenza complice degli africani che vivono in un paese neocolonialista. \nMercoledì 25 gennaio proietteremo gli anonimi video di “Good morning Somalia”: girati da militari italiani durante la missione Ibis (dicembre 1992 – marzo 1994) e inviati al settimanale Panorama nel 1997. Sono filmini amatoriali che mostrano senza filtri la vita dietro le quinte di una cosiddetta missione di pace in Somalia (una delle tante in quella martoriata zona dell’Africa). I check point\, i controlli della popolazione\, il Nemico invisibile\, le immancabili battute da caserma e le goliardate. Li presentiamo così come sono\, senza ulteriori commenti. Prima di WikiLeaks\, prima ancora di internet\, un raro documento su una realtà che forse nessuno avrebbe dovuto vedere. Al di là del valore intrinseco\, giusto per capire un po’ meglio che cosa ci facciamo noi lì\, che cosa ci fanno loro qui. \nMercoledì 1 febbraio vedremo una storia raccontata da Vittorio De Seta in “Lettere dal Sahara”\, del 2006. In questo caso il contesto è l’Italia di inizio millennio\, ma le vicende di Assane\, che viene dal Senegal e sogna di completare gli studi in Europa\, è simile a quella di migliaia di altri giovani africani\, dai barconi ai CPT\, dal lavoro nero schiavistico al razzismo che va dalla violenza più esplicita al paternalismo più o meno ipocrita. Opera poco nota (e pressoché ignorata dalla critica) del maestro autore di capolavori del cinema-verità come “Diario di un maestro “\, Lettere dal Sahara è girato anch’esso in uno stile semidocumentaristico\, senza concessioni stilose o i manierismi ammiccanti che affliggono molto del nostro cinema giovane cosiddetto impegnato\, “da festival”.   \nCi ritroveremo come sempre alle ore 19:00 in Via Vettor Fausto 3 (entrare nel portone e scendere le scale) \nGruppo Anarchico Bakunin – F.A.I. ROMA E LAZIO \ngruppobakunin@federazioneanarchica.org
URL:https://umanitanova.org/event/roma-cineforum-garbatella-2023-lafrica-e-noi/
LOCATION:roma
CATEGORIES:Evento
END:VEVENT
BEGIN:VEVENT
DTSTART;TZID=Europe/Rome:20230121T160000
DTEND;TZID=Europe/Rome:20230121T233000
DTSTAMP:20260421T182215
CREATED:20230120T145828Z
LAST-MODIFIED:20230120T145828Z
UID:23621-1674316800-1674343800@umanitanova.org
SUMMARY:Bologna: reti spaccio popolare + proiezione : Scarpe grosse cervello fino
DESCRIPTION:1) Sabato 21/01 – Reti dello Spaccio Popolare\n2) Lunedì 23/01 – Breve presentazione del collettivo Bida + Mensa Popolare Autogestita – benefit per il Circolo Anarchico Berneri\n3) Lunedì 30/01 – Mensa popolare autogestita benefit per Radio Spore \n1) Sabato 21/01 – Reti dello Spaccio Popolare\nDalle ore 16 lo Spaccio Popolare Autogestito dice basta all’invasione dei supermercati e alla deriva del cibo spazzatura\, dello sfruttamento del lavoro e della terra. Ripartiamo dalle reti!\nAlle ore 17.30 presentazione della CSA Arvaia\nAlle ore 19 proiezione di Scarpe Grosse Cervello Fino (documentario del 2017 sul movimento Genuino Clandestino)\nAlle ore 20.30 cena popolare con caciocavallo impiccato dalla Campania\, birre artigianali\, vini naturali e succhi di frutta bio ed autocertificati \n* A seguire Djset. Per tutta la giornata la Serigrafia del Circolo proporrà stampe Genuine Clandestine\, porta la tua borsa in tela\, una maglietta o quello su cui vorresti fosse serigrafato il logo GC.\n* Ciclofficina Ampioraggio aperta! \n+++++++ \nQui trovi il CALENDARIO DELLE ATTIVITA’ >> https://own.bida.im/index.php/apps/calendar/p/JjQR4fKLXwFPaNPP/dayGridMonth/now \n+++++++ \nDAL LUNEDI’ AL VENERDI’:\n+ dalle 10 alle 19 SALA STUDIO\nDato che ci possono essere delle difficoltà a dare sempre continuità rimandiamo al canale telegram per avere aggiornamenti quotidiani sulle aperture (https://t.me/soppaula)\n+ su richiesta apertura della biblioteca Elio Xerri per prestiti e consultazioni testi. Il catalogo della biblioteca (che è ancora in fase di completamento e di aggiornamento) è consultabile tramite il portale RebAl (http://www.rebal.info ). Oltre ai libri sono disponibili anche testi in formato digitale. \nTUTTI I MERCOLEDI’:\n+ dalle 17.30 alle 20 SPACCIO POPOLARE AUTOGESTITO\n(https://mastodon.bida.im/@spacciopopolareautogestito)\, allo SPA trovi generi alimentari prodotti senza sfruttamento della terra e delle persone\n+ dalle 19 CICLOFFICINA POPOLARE AMPIORAGGIO \nTUTTI I GIOVEDI’:\n+ dalle 20.30 ASSEMBLEA DEL CIRCOLO ANARCHICO BERNERI \nUN VENERDI’ OGNI DUE:\n+ dalle 16 alle 17.30 COLONNA SOLIDALE AUTOGESTITA\n(https://colonnasolidale.org/)\, distribuzione di spese sospese. Se puoi\, porta riso\, pasta\, legumi o beni di prima necessità\, oppure fai una donazione qui www.produzionidalbasso.com/project/supporta-le-distribuzioni-solidali/.\nAssemblea un martedì ogni due alle 19.30 \n+++++++ \nTutti i progetti sono autogestiti e autorganizzati in maniera orizzontale\, le decisioni sono prese collettivamente in assemblea col metodo del consenso. \nSiamo aperte alle proposte e alla partecipazione\, se sei interessata/o/*: \nvieni il GIOVEDI DALLE 21 in assemblea (Piazza di Porta S. Stefano 1\, Bologna)\n– o contattaci durante le altre giornate e serate di apertura\n– o scrivi una mail a berneri @ autistici . org\n—\nCircoloberneri mailing list\nCircoloberneri@autistici.org
URL:https://umanitanova.org/event/bologna-reti-spaccio-popolare-proiezione-scarpe-grosse-cervello-fino/
CATEGORIES:Evento
END:VEVENT
BEGIN:VEVENT
DTSTART;TZID=Europe/Rome:20230123T193000
DTEND;TZID=Europe/Rome:20230123T233000
DTSTAMP:20260421T182215
CREATED:20230120T150152Z
LAST-MODIFIED:20230123T195146Z
UID:23623-1674502200-1674516600@umanitanova.org
SUMMARY:Bologna: presentazione collettivo Bida + Mensa popolare benefit Circolo
DESCRIPTION:1) Sabato 21/01 – Reti dello Spaccio Popolare\n2) Lunedì 23/01 – Breve presentazione del collettivo Bida + Mensa Popolare Autogestita – benefit per il Circolo Anarchico Berneri\n3) Lunedì 30/01 – Mensa popolare autogestita benefit per Radio Spore \nLunedì 23/01 – Breve presentazione del collettivo Bida + Mensa Popolare Autogestita – benefit per il Circolo Anarchico Berneri\nAlle 19.30 ci sarà una breve presentazione del collettivo Bida\, maggiori informazioni su:\n– https://bida.im/\n– https://mastodon.bida.im/about/more\nDalle ore 20.00 cena con menù a sopresa (generalmente vegano e onnivoro) e distribuzione di stampa anarchica.\nLa mensa utilizza prodotti di prossimità politica e geografica.\nÈ autogestita perché intende abbattere la divisione tra chi la organizza e chi ne usufruisce: tutte-i possono dare una mano econtribuire in qualche modo.\nÈ popolare perché accessibile a tutte le tasche. \nDal 2013\, quando abbiamo cominciato\, a oggi\, gli incassi sono serviti per finanziare le attività del circolo\, di gruppi e collettivi dentro e fuori Bologna\, per supportare compagne-i in condizioni di necessità o nei guai con la legge a causa delle proprie attività sociali. Così continueremo. \n+++++++ \nQui trovi il CALENDARIO DELLE ATTIVITA’ >> https://own.bida.im/index.php/apps/calendar/p/JjQR4fKLXwFPaNPP/dayGridMonth/now \n+++++++ \nDAL LUNEDI’ AL VENERDI’:\n+ dalle 10 alle 19 SALA STUDIO\nDato che ci possono essere delle difficoltà a dare sempre continuità rimandiamo al canale telegram per avere aggiornamenti quotidiani sulle aperture (https://t.me/soppaula)\n+ su richiesta apertura della biblioteca Elio Xerri per prestiti e consultazioni testi. Il catalogo della biblioteca (che è ancora in fase di completamento e di aggiornamento) è consultabile tramite il portale RebAl (http://www.rebal.info ). Oltre ai libri sono disponibili anche testi in formato digitale. \nTUTTI I MERCOLEDI’:\n+ dalle 17.30 alle 20 SPACCIO POPOLARE AUTOGESTITO\n(https://mastodon.bida.im/@spacciopopolareautogestito)\, allo SPA trovi generi alimentari prodotti senza sfruttamento della terra e delle persone\n+ dalle 19 CICLOFFICINA POPOLARE AMPIORAGGIO \nTUTTI I GIOVEDI’:\n+ dalle 20.30 ASSEMBLEA DEL CIRCOLO ANARCHICO BERNERI \nUN VENERDI’ OGNI DUE:\n+ dalle 16 alle 17.30 COLONNA SOLIDALE AUTOGESTITA\n(https://colonnasolidale.org/)\, distribuzione di spese sospese. Se puoi\, porta riso\, pasta\, legumi o beni di prima necessità\, oppure fai una donazione qui www.produzionidalbasso.com/project/supporta-le-distribuzioni-solidali/.\nAssemblea un martedì ogni due alle 19.30 \n+++++++ \nTutti i progetti sono autogestiti e autorganizzati in maniera orizzontale\, le decisioni sono prese collettivamente in assemblea col metodo del consenso. \nSiamo aperte alle proposte e alla partecipazione\, se sei interessata/o/*: \nvieni il GIOVEDI DALLE 21 in assemblea (Piazza di Porta S. Stefano 1\, Bologna)\n– o contattaci durante le altre giornate e serate di apertura\n– o scrivi una mail a berneri @ autistici . org\n—\nCircoloberneri mailing list\nCircoloberneri@autistici.org
URL:https://umanitanova.org/event/bologna-presentazione-collettivo-bida-mensa-popolare-benefist-circolo/
CATEGORIES:Evento
END:VEVENT
BEGIN:VEVENT
DTSTART;TZID=Europe/Rome:20230125T190000
DTEND;TZID=Europe/Rome:20230125T233000
DTSTAMP:20260421T182215
CREATED:20230117T073305Z
LAST-MODIFIED:20230117T083454Z
UID:23579-1674673200-1674689400@umanitanova.org
SUMMARY:Roma: la Garbatell(A) cineforum L'africa e Noi... "Good morning Somalia"
DESCRIPTION:Dal 18 gennaio apriamo il nuovo anno con un cineforum dedicato ai rapporti tra l’Africa e l’Europa. Cinema africano che parla di Europa\, cinema europeo che parla di Africa e filmati anonimi di europei in Africa. Qui intendiamo Europa come Occidente in genere\, Europa come luogo privilegiato dove si è inventato colonialismo\, neocolonialismo e dove le conseguenze dello sfruttamento capitalistico in Africa si chiamano immigrazione o anche (alla fascista) invasione\, e le vittime si chiamano migranti nel migliore dei casi\, clandestini secondo la nostra legge. \nMercoledì 18 gennaio apriamo con “Soleil Ô” (1967) di Med Hondo\, regista mauritano vissuto a Parigi dal 1959. Film simbolo del ’68 africano\, denuncia attraverso la storia esemplare di un immigrato in Francia in cerca di lavoro il razzismo endemico\, la violenza ma anche la connivenza complice degli africani che vivono in un paese neocolonialista. \nMercoledì 25 gennaio proietteremo gli anonimi video di “Good morning Somalia”: girati da militari italiani durante la missione Ibis (dicembre 1992 – marzo 1994) e inviati al settimanale Panorama nel 1997. Sono filmini amatoriali che mostrano senza filtri la vita dietro le quinte di una cosiddetta missione di pace in Somalia (una delle tante in quella martoriata zona dell’Africa). I check point\, i controlli della popolazione\, il Nemico invisibile\, le immancabili battute da caserma e le goliardate. Li presentiamo così come sono\, senza ulteriori commenti. Prima di WikiLeaks\, prima ancora di internet\, un raro documento su una realtà che forse nessuno avrebbe dovuto vedere. Al di là del valore intrinseco\, giusto per capire un po’ meglio che cosa ci facciamo noi lì\, che cosa ci fanno loro qui. \nMercoledì 1 febbraio vedremo una storia raccontata da Vittorio De Seta in “Lettere dal Sahara”\, del 2006. In questo caso il contesto è l’Italia di inizio millennio\, ma le vicende di Assane\, che viene dal Senegal e sogna di completare gli studi in Europa\, è simile a quella di migliaia di altri giovani africani\, dai barconi ai CPT\, dal lavoro nero schiavistico al razzismo che va dalla violenza più esplicita al paternalismo più o meno ipocrita. Opera poco nota (e pressoché ignorata dalla critica) del maestro autore di capolavori del cinema-verità come “Diario di un maestro “\, Lettere dal Sahara è girato anch’esso in uno stile semidocumentaristico\, senza concessioni stilose o i manierismi ammiccanti che affliggono molto del nostro cinema giovane cosiddetto impegnato\, “da festival”.   \nCi ritroveremo come sempre alle ore 19:00 in Via Vettor Fausto 3 (entrare nel portone e scendere le scale) \nGruppo Anarchico Bakunin – F.A.I. ROMA E LAZIO \ngruppobakunin@federazioneanarchica.org
URL:https://umanitanova.org/event/roma-la-garbatella-cineforum-lafrica-e-noi/
CATEGORIES:Evento
END:VEVENT
BEGIN:VEVENT
DTSTART;TZID=Europe/Rome:20230130T190000
DTEND;TZID=Europe/Rome:20230130T233000
DTSTAMP:20260421T182215
CREATED:20230120T150503Z
LAST-MODIFIED:20230120T150739Z
UID:23625-1675105200-1675121400@umanitanova.org
SUMMARY:Bologna: Mensa Popolare Autogestita - benefit per Radio Spore
DESCRIPTION:Lunedì 30/01 – Mensa Popolare Autogestita – benefit per Radio Spore\nMaggiori informazioni sul progetto Radio Spore https://radiospore.oziosi.org/ \n+++++++ \nQui trovi il CALENDARIO DELLE ATTIVITA’ >> https://own.bida.im/index.php/apps/calendar/p/JjQR4fKLXwFPaNPP/dayGridMonth/now \n+++++++ \nDAL LUNEDI’ AL VENERDI’:\n+ dalle 10 alle 19 SALA STUDIO\nDato che ci possono essere delle difficoltà a dare sempre continuità rimandiamo al canale telegram per avere aggiornamenti quotidiani sulle aperture (https://t.me/soppaula)\n+ su richiesta apertura della biblioteca Elio Xerri per prestiti e consultazioni testi. Il catalogo della biblioteca (che è ancora in fase di completamento e di aggiornamento) è consultabile tramite il portale RebAl (http://www.rebal.info ). Oltre ai libri sono disponibili anche testi in formato digitale. \nTUTTI I MERCOLEDI’:\n+ dalle 17.30 alle 20 SPACCIO POPOLARE AUTOGESTITO\n(https://mastodon.bida.im/@spacciopopolareautogestito)\, allo SPA trovi generi alimentari prodotti senza sfruttamento della terra e delle persone\n+ dalle 19 CICLOFFICINA POPOLARE AMPIORAGGIO \nTUTTI I GIOVEDI’:\n+ dalle 20.30 ASSEMBLEA DEL CIRCOLO ANARCHICO BERNERI \nUN VENERDI’ OGNI DUE:\n+ dalle 16 alle 17.30 COLONNA SOLIDALE AUTOGESTITA\n(https://colonnasolidale.org/)\, distribuzione di spese sospese. Se puoi\, porta riso\, pasta\, legumi o beni di prima necessità\, oppure fai una donazione qui www.produzionidalbasso.com/project/supporta-le-distribuzioni-solidali/.\nAssemblea un martedì ogni due alle 19.30 \n+++++++ \nTutti i progetti sono autogestiti e autorganizzati in maniera orizzontale\, le decisioni sono prese collettivamente in assemblea col metodo del consenso. \nSiamo aperte alle proposte e alla partecipazione\, se sei interessata/o/*: \nvieni il GIOVEDI DALLE 21 in assemblea (Piazza di Porta S. Stefano 1\, Bologna)\n– o contattaci durante le altre giornate e serate di apertura\n– o scrivi una mail a berneri @ autistici . org\n—\nCircoloberneri mailing list\nCircoloberneri@autistici.org
URL:https://umanitanova.org/event/bologna/
CATEGORIES:Evento
END:VEVENT
END:VCALENDAR