BEGIN:VCALENDAR
VERSION:2.0
PRODID:-// - ECPv6.15.20//NONSGML v1.0//EN
CALSCALE:GREGORIAN
METHOD:PUBLISH
X-ORIGINAL-URL:https://umanitanova.org
X-WR-CALDESC:Eventi per 
REFRESH-INTERVAL;VALUE=DURATION:PT1H
X-Robots-Tag:noindex
X-PUBLISHED-TTL:PT1H
BEGIN:VTIMEZONE
TZID:Europe/Rome
BEGIN:DAYLIGHT
TZOFFSETFROM:+0100
TZOFFSETTO:+0200
TZNAME:CEST
DTSTART:20210328T010000
END:DAYLIGHT
BEGIN:STANDARD
TZOFFSETFROM:+0200
TZOFFSETTO:+0100
TZNAME:CET
DTSTART:20211031T010000
END:STANDARD
BEGIN:DAYLIGHT
TZOFFSETFROM:+0100
TZOFFSETTO:+0200
TZNAME:CEST
DTSTART:20220327T010000
END:DAYLIGHT
BEGIN:STANDARD
TZOFFSETFROM:+0200
TZOFFSETTO:+0100
TZNAME:CET
DTSTART:20221030T010000
END:STANDARD
BEGIN:DAYLIGHT
TZOFFSETFROM:+0100
TZOFFSETTO:+0200
TZNAME:CEST
DTSTART:20230326T010000
END:DAYLIGHT
BEGIN:STANDARD
TZOFFSETFROM:+0200
TZOFFSETTO:+0100
TZNAME:CET
DTSTART:20231029T010000
END:STANDARD
END:VTIMEZONE
BEGIN:VEVENT
DTSTART;TZID=Europe/Rome:20221001T160000
DTEND;TZID=Europe/Rome:20221001T235900
DTSTAMP:20260421T221641
CREATED:20220927T210216Z
LAST-MODIFIED:20220927T210245Z
UID:22470-1664640000-1664668740@umanitanova.org
SUMMARY:Bologna: i primi 50 anni del "Berneri"
DESCRIPTION:[1972-2022]\n50° ANNIVERSARIO DEL CIRCOLO ANARCHICO BERNERI \nPiazza di Porta Santo Stefano 1 Bologna \nSABATO 1 OTTOBRE dalle ore 16 – CONTADINANZA ATTIVA \nPer articolare una lotta di resistenza alla cementificazione dei centri commerciali\, per l’agroecologia\, i tempi lenti\, i sapori genuini\, le produzioni clandestine; lo Spaccio Popolare Autogestito incontra compagni e compagne delle reti Genuino Clandestino Lombardia e Campania. \nDalle 16 – Degustazioni di olio\, banchetti alimentari\, vini naturali\, birre agricole\, grappe artigianali e proiezione del documentario Genuino Clandestino. \nAlle 17 – Tavolo di confronto su spacci popolari\, logistica partecipata e reti locali GC. \nDalle 19:30 – Cena con caciocavallo impiccato. \nDalle 21:30 – Concerti live: \nLA MALA SEMENTA – Musica Sagra\, Canzone Impopolare da Balera (BO) \n    CATORCIO – Noise rock dispari infastidito\, senza frontman (BO) \n#spacciopopolareautogestito per i 50 anni del Circolo Anarchico Camillo Berneri.
URL:https://umanitanova.org/event/bologna-i-primi-50-anni-del-berneri/
CATEGORIES:Evento
END:VEVENT
BEGIN:VEVENT
DTSTART;TZID=Europe/Rome:20221002T100000
DTEND;TZID=Europe/Rome:20221002T180000
DTSTAMP:20260421T221641
CREATED:20220911T103831Z
LAST-MODIFIED:20220911T103831Z
UID:22320-1664704800-1664733600@umanitanova.org
SUMMARY:Alessandria: AUTOBIOLOGIC. Piccolo mercato dell'agri-bio e delle autoproduzioni. L.A. PerlaNera
DESCRIPTION:AUTBIOLOGIC\n9° edizione\npiccolo mercato dell’agri-bio\, delle autoproduzioni e dell’artigianato\nDOMENICA 2 OTTOBRE 2022\ndalle ore 10.00 alle ore 18.00 \nAUTBIOLOGIC piccolo mercato dell’agri-bio\, delle autoproduzioni e dell’artigianato\, questa è l’ottava edizione. L’iniziativa si svolgerà come sempre nel cortile delL.A. PerlaNera\, in via Tiziano Vecellio 2 ad ALESSANDRIA\n-sempre per proporre un’altro modo di vivere\n-sempre per proporre l’autogestione\,\nnello spirito che accompagna la vita di questo posto. \nLa mail è: gas.perlanera@libero.it\n3477389180 Vittoria
URL:https://umanitanova.org/event/alessandria-autobiologic-piccolo-mercato-dellagri-bio-e-delle-autoproduzioni-l-a-perlanera/
LOCATION:alessandria
CATEGORIES:Evento
END:VEVENT
BEGIN:VEVENT
DTSTART;TZID=Europe/Rome:20221007T080000
DTEND;TZID=Europe/Rome:20221009T233000
DTSTAMP:20260421T221641
CREATED:20220911T105840Z
LAST-MODIFIED:20220914T152027Z
UID:22331-1665129600-1665358200@umanitanova.org
SUMMARY:Piemonte: TRE GIORNI PER RICORDARE LORENZO ORSETTI (ORSO TEKOSER)
DESCRIPTION:
URL:https://umanitanova.org/event/tre-giorni-per-ricordare-lorenzo-orsetti-orso-tekoser/
LOCATION:Alessandria/Pertuso/Asti
CATEGORIES:Evento
END:VEVENT
BEGIN:VEVENT
DTSTART;TZID=Europe/Rome:20221007T210000
DTEND;TZID=Europe/Rome:20221007T233000
DTSTAMP:20260421T221641
CREATED:20220927T203704Z
LAST-MODIFIED:20220927T203704Z
UID:22463-1665176400-1665185400@umanitanova.org
SUMMARY:Jesi: Cineforum libertario "Soggetto Donna"
DESCRIPTION:Tornano le rassegne cinematografiche al Centro Studi Libertari “Luigi Fabbri”\nIngresso libero\, come sempre.\n\n\nven 7 ott. ore 21:00\nIl concorso (P. Lowthorpe\, 106min.)\n\nLondra 1970. Ventesima edizione del concorso di Miss Mondo. Il Women’s Liberation Movement decide di boicottare la manifestazione nel corso della finale per opporsi al sistema patriarcale che vuole la donna come oggetto. Sally Alexander è una delle leader di un’azione che la porterà a scoprire anche altri aspetti dell’emancipazione femminile. La Storia non sarà mai racchiudibile in un film\, ma questo vuol essere un’angolatura verso una stagione politica conosciuta del femminismo\, con la quale il mondo deve fare i conti tutt’oggi.
URL:https://umanitanova.org/event/jesi-cineforum-libertario-soggetto-donna/
LOCATION:jesi
CATEGORIES:Evento
END:VEVENT
BEGIN:VEVENT
DTSTART;TZID=Europe/Rome:20221008T150000
DTEND;TZID=Europe/Rome:20221008T183000
DTSTAMP:20260421T221641
CREATED:20221004T101256Z
LAST-MODIFIED:20221004T101256Z
UID:22512-1665241200-1665253800@umanitanova.org
SUMMARY:Milano: CORTEO contro l'estradizione di Vincenzo Vecchi
DESCRIPTION:GENOVA 2001 / PARIGI 2022\n\nA PIÙ DI VENT’ANNI DAL G8 DI GENOVA 2001\, \nSI DECIDONO A PARIGI LE SORTI DI VINCENZO VECCHI \nricercato in Italia per aver manifestato la sua opposizione ai grandi della Terra\, condannato nel 2012 ad una pena tanto pesante quanto assurda\, come è stato per tutti i condannati per Genova 2001 \ncatturato in Francia nell’agosto 2019 dopo dieci anni di processi e quasi altrettanti di latitanza\, Vincenzo si trova attualmente libero grazie alla mobilitazione solidale cresciuta in Francia al momento del suo arresto \ndopo alcune sentenze positive dei tribunali francesi\, che hanno rigettato il reato di devastazione e saccheggio utilizzato dai giudici italiani\, una sentenza della corte di giustizia europea rischia ora di ribaltare la decisione francese di non estradare Vincenzo \nper questo la sua libertà è di nuovo in pericolo e i comitati di solidarietà sono tornati per le strade \nil prossimo 11 ottobre la corte di cassazione di Parigi prenderà una decisione che potrebbe essere quella definitiva \ncome familiari\, amici e compagni di Vincenzo \nINVITIAMO CHIUNQUE POSSA E VOGLIA FARLO A MOBILITARSI ANCHE IN ITALIA \nDAL PROSSIMO 1º OTTOBRE \nIN OGNI MANIERA\, ANCHE SOLO CON UN PRESIDIO\, UN VOLANTINAGGIO\, UNO STRISCIONE\, UN DISEGNO O UNA SCRITTA SU UN MURO \n(se puoi\, comunicaci quanto hai intenzione di fare e\, se possibile\, inviaci immagini da condividere con i comitati francesi\, a questo contatto: info@sosteniamovincenzo.org) \nIN VISTA DI UN \nCORTEO A MILANO SABATO 8 OTTOBRE\nORE 15\,00 P.TA GENOVA \nper sostenere che le ragioni di chi allora scese per le strade di Genova sono oggi ancora più giuste ed urgenti \nper ribadire che i governanti non vanno lasciati tranquilli mentre devastano e saccheggiano il pianeta su cui viviamo \nper protestare contro una giustizia europea ostaggio degli interessi commerciali e militari \nper ricordare che il carcere non è una soluzione ma un problema \nNESSUNA ESTRADIZIONE\, NESSUNA PRIGIONE!\nVINCENZO LIBERO\, LIBERI/E TUTTI/E! \nAssemblea di sostegno a Vincenzo\, 18 settembre\, Milano \n(per i prossimi appuntamenti vedi www.sosteniamovincenzo.org) \n 
URL:https://umanitanova.org/event/milano-corteo-contro-lestradizione-di-vincenzo-vecchi/
LOCATION:milano
CATEGORIES:Evento
END:VEVENT
BEGIN:VEVENT
DTSTART;TZID=Europe/Rome:20221009T160000
DTEND;TZID=Europe/Rome:20221009T210000
DTSTAMP:20260421T221641
CREATED:20221008T104621Z
LAST-MODIFIED:20221008T104916Z
UID:22550-1665331200-1665349200@umanitanova.org
SUMMARY:Asti: 09 OTTOBRE @ DIAVOLO ROSSO - PER IL ROJAVA!
DESCRIPTION:A causa delle previsioni meteo l’evento si terrà Domenica 09 Ottobre alle 16 al Diavolo Rosso\, Piazza San Martino 4\, Asti. \nhttps://lamicciaasti.noblogs.org/post/2022/09/06/09-ottobre-boschetto-dei-partigiani-esplosioni-2022-per-il-rojava/ \nLa rivoluzione del Rojava ha compiuto dieci anni. La notte del 19 luglio del 2012 le YPG (Unità di Protezione del popolo) prendono il controllo delle  strade d’accesso e di uscita della città di Kobane\, in Siria\, mentre la popolazione in armi occupa le sedi istituzionali dello Stato siriano. Inizia un processo rivoluzionario ispirato ai principi del confederalismo democratico. Un esperimento di democrazia diretta e senza Stato che prende le mosse dal municipalismo libertario\, dall’ecologia sociale e dal femminismo\, realizzando una convivenza pacifica tra i diversi popoli che abitano il territorio. Questo progetto concreto di cambiamento radicale della società è oggi più che mai a rischio\, sotto la minaccia militare del governo islamista turco. Erdogan è riuscito infatti in questi ultimi mesi di guerra a presentarsi come mediatore del conflitto russo-ucraino\, incassando il sostegno della NATO e riuscendo a strappare accordi criminali\, come quello che sancisce il ritiro della protezione per i dissidenti curdi in Finlandia e Svezia. La situazione nei territori curdi è oggi più che mai drammatica ed è di pochi giorni fa (29 agosto) la notizia dell’ennesimo attacco turco\, questa volta ai danni del campo profughi di Maxmur. \nDi fronte a tutto questo sentiamo il dovere di accendere i riflettori su quanto sta accadendo in quei luoghi\, di portare la nostra solidarietà a chi sta resistendo e di discutere insieme di un progetto rivoluzionario prezioso e vitale tanto per chi abita quei luoghi tanto per chi vive in Europa. \nAbbiamo deciso di fare tutto questo nel ricordo di Lorenzo “Orso” Orsetti: anarchico caduto in combattimento in Rojava\, ucciso dai tagliagole dell’ISIS. All’incontro interverrà: Jack (volontario YPG)\, Selva Varengo (studiosa del pensiero municipalista ed ecologista sociale di Bookchin) e il padre di “Orso”\, Alessandro.
URL:https://umanitanova.org/event/asti-09-ottobre-diavolo-rosso-per-il-rojava/
LOCATION:asti
CATEGORIES:Evento
END:VEVENT
BEGIN:VEVENT
DTSTART;TZID=Europe/Rome:20221010T170000
DTEND;TZID=Europe/Rome:20221010T233000
DTSTAMP:20260421T221641
CREATED:20221008T104858Z
LAST-MODIFIED:20221008T104858Z
UID:22553-1665421200-1665444600@umanitanova.org
SUMMARY:Bologna: Cenetta Furbetta
DESCRIPTION:[1972-2022 ** 50° ANNIVERSARIO DEL CIRCOLO ANARCHICO BERNERI] \n1) LUNEDI’ 10 OTTOBRE la Sala studio vi invita alla Cenetta Furbetta \nProiezione de “La vita è un raccolto” di Agnes Varda. Un film-documentatio che racconta la pratica della spigolatura in senso lato caratterizzata dall’atto del chinarsi e raccogliere piccoli tesori: dalla spigolatrice dei quadri dell’800 alle persone che vivono degli avanzi raccolti dai cassonetti\, ma anche artistx la cui opera è composta da scarti e rifiuti della vita quotidiana. \nIn seguito dibattito sul film e condivisione delle esperienze di recupera che viviamo tutti i giorni. \nh 17.00     Birrette\nh 18.30    Proiezione “La vita è un racolto” e chiacchiere furbette.\nh 20.00   Cena popolare e Jam Session –> Porta strumenti \nCircolo Anarchico Berneri\, Piazza di Porta Santo Stefano 1\, Bologna.
URL:https://umanitanova.org/event/bologna-cenetta-furbetta/
LOCATION:bologna
CATEGORIES:Evento
END:VEVENT
BEGIN:VEVENT
DTSTART;TZID=Europe/Rome:20221021T210000
DTEND;TZID=Europe/Rome:20221021T235900
DTSTAMP:20260421T221641
CREATED:20220927T204009Z
LAST-MODIFIED:20220927T204009Z
UID:22465-1666386000-1666396740@umanitanova.org
SUMMARY:Jesi: Cineforum libertario "Soggetto Donna"
DESCRIPTION:Tornano le rassegne cinematografiche al Centro Studi Libertari “Luigi Fabbri”\nIngresso libero\, come sempre.\n\n\nven 21 ott. h. 21:00\nUna donna promettente (E. Fennell\, 113min.)\n\nLa trentenne Cassie ha buttato al vento ogni speranza: da quando ha abbandonato gli studi di medicina lavora in un piccolo bar\, vive coi genitori e ogni weekend gira per locali facendosi abbordare da sconosciuti. Cassie in realtà ha un piano: fingendosi ubriaca\, intende dimostrare come ogni uomo che la abborda nasconda il desiderio di violentarla o possederla con la forza.\nUn film che non ha bisogno di confrontarsi con la Storia con la S maiuscola perché ne é parte\, descrive una delle tante pieghe che il quotidiano può prendere\, per quanto particolari o diverse possano sembrare.
URL:https://umanitanova.org/event/jesi-cineforum-libertario-soggetto-donna-2/
LOCATION:jesi
CATEGORIES:Evento
END:VEVENT
END:VCALENDAR