BEGIN:VCALENDAR
VERSION:2.0
PRODID:-// - ECPv6.15.20//NONSGML v1.0//EN
CALSCALE:GREGORIAN
METHOD:PUBLISH
X-ORIGINAL-URL:https://umanitanova.org
X-WR-CALDESC:Eventi per 
REFRESH-INTERVAL;VALUE=DURATION:PT1H
X-Robots-Tag:noindex
X-PUBLISHED-TTL:PT1H
BEGIN:VTIMEZONE
TZID:Europe/Rome
BEGIN:DAYLIGHT
TZOFFSETFROM:+0100
TZOFFSETTO:+0200
TZNAME:CEST
DTSTART:20210328T010000
END:DAYLIGHT
BEGIN:STANDARD
TZOFFSETFROM:+0200
TZOFFSETTO:+0100
TZNAME:CET
DTSTART:20211031T010000
END:STANDARD
BEGIN:DAYLIGHT
TZOFFSETFROM:+0100
TZOFFSETTO:+0200
TZNAME:CEST
DTSTART:20220327T010000
END:DAYLIGHT
BEGIN:STANDARD
TZOFFSETFROM:+0200
TZOFFSETTO:+0100
TZNAME:CET
DTSTART:20221030T010000
END:STANDARD
BEGIN:DAYLIGHT
TZOFFSETFROM:+0100
TZOFFSETTO:+0200
TZNAME:CEST
DTSTART:20230326T010000
END:DAYLIGHT
BEGIN:STANDARD
TZOFFSETFROM:+0200
TZOFFSETTO:+0100
TZNAME:CET
DTSTART:20231029T010000
END:STANDARD
END:VTIMEZONE
BEGIN:VEVENT
DTSTART;TZID=Europe/Rome:20220801T180000
DTEND;TZID=Europe/Rome:20220801T235900
DTSTAMP:20260422T061350
CREATED:20220728T111808Z
LAST-MODIFIED:20220728T111913Z
UID:21887-1659376800-1659398340@umanitanova.org
SUMMARY:Milano: presidio davanti a Benetton in ricordo di Santiago Maldonado
DESCRIPTION:1 AGOSTO 2022 – MILANO – ORE 18:00 \nPRESIDIO DAVANTI AL NEGOZIO BENETTON DI CORSO BUENOS AIRES \nSono passati cinque anni da quel 1° agosto 2017. Non abbiamo mai avuto dubbi: ti hanno fatto sparire e ucciso perché avevi ragione. Benetton sfrutta e ruba le terre mapuche in nome del profitto\, con la complicità di Cile e Argentina e del loro braccio repressivo\, la polizia.\nLe compagne e i compagni della Rete in difesa del popolo Mapuche rispondono alla chiamata internazionale per ricordare Santiago Maldonado\, per denunciare l’usurpazione delle terre e opporsi al profitto del capitale a discapito dei popoli. \nE a seguire\, per tutte e tutti\, SPAGHETTATA SOLIDALE in giardino all’Ateneo Libertario – Viale Monza 255
URL:https://umanitanova.org/event/milano-presidio-davanti-a-benetton-in-ricordo-di-santiago-maldonado/
LOCATION:milano
CATEGORIES:Evento
END:VEVENT
BEGIN:VEVENT
DTSTART;TZID=Europe/Rome:20220802T190000
DTEND;TZID=Europe/Rome:20220802T230000
DTSTAMP:20260422T061350
CREATED:20220728T111411Z
LAST-MODIFIED:20220728T111411Z
UID:21885-1659466800-1659481200@umanitanova.org
SUMMARY:Livorno: 100 anni dai Fatti dell'Agosto 1922 - Per Filippetti\, per ricordare il primo antifascismo
DESCRIPTION:A 100 anni dai fatti dell’agosto del 1922\, dall’assalto fascista a Livorno per stroncare lo sciopero generale\, dall’assassinio di Filippo Filippetti e degli altri antifascisti  \n1922- 2022 In memoria di Filippo Filippetti\, anarchico livornese\, antifascista\, ucciso dai fascisti  \nMartedì 2 agosto 2022 ore 19 \nCommemorazione presso la lapide \nVia Provinciale Pisana 354\, Livorno \n(andando verso Via Firenze\, alla ex-scuola Camilli) \ndalle 20:30 nel giardino della FAL in Via degli Asili 33 per un momento conviviale \nFilippo Filipetti\, giovane anarchico\, viene ucciso il 2 agosto 1922 dai fascisti mentre si oppone\, assieme ad altri antifascisti\, ad una spedizione punitiva contro Livorno. \nIl 2 Agosto 1922 un gruppo di giovani antifascisti\, tra i quali alcuni anarchici\, ingaggia uno scontro armato nei pressi di Pontarcione con i camion dei fascisti. Muore nella sparatoria Filippo Filippetti\, membro degli Arditi del Popolo\, sindacalista dell’USI per il settore edile \nNell’estate del 1922 si giocano le ultime carte per fermare la reazione antiproletaria: il paese è attraversato da un crescendo di aggressioni compiute dai fascisti nei confronti delle organizzazioni del movimento operaio e dei singoli militanti; si contano decine di morti fra gli antifascisti. \nDa mesi l’Unione Anarchica Italiana e il giornale “Umanità Nova” si battono a sostegno del movimento degli Arditi del Popolo\, per costituire un fronte unico proletario che organizzi la difesa. Su iniziativa del Sindacato Ferrovieri Italiano è costituita l’Alleanza del Lavoro\, a cui partecipano tutti i sindacati\, con l’appoggio dell’Unione Anarchica\, del Partito Repubblicano\, del Partito Comunista e del Partito Socialista.  \nL’Alleanza del Lavoro indice uno sciopero generale ad oltranza per fermare le violenze fasciste a partire dalla mezzanotte del 31 luglio. \nI fascisti finanziati da agrari e industriali\, armati da Carabinieri ed Esercito\, protetti dalla monarchia e dalla Chiesa\, aggrediscono le roccaforti operaie. \nIn molte città\, fra cui Piombino\, Ancona\, Parma\, Civitavecchia\, Bari i fascisti vengono respinti anche grazie all’azione degli Arditi del Popolo. Nel momento in cui la resistenza operaia cresce\, CGL e PSI\, sperando in un ennesimo compromesso\, si ritireranno dalla lotta\, aprendo la strada alla rappresaglia armata del Governo. \nLivorno è uno dei centri dello scontro. Tra il 1° e il 2 Agosto 1922 squadre fasciste provenienti da tutta la Toscana lanciano la caccia agli antifascisti livornesi\, facendo irruzione nei quartieri popolari che resistono all’invasione. \nMolti furono gli assassinati in quei giorni. Popolani\, militanti comunisti\, anarchici\, repubblicani e socialisti\, tra i quali Luigi Gemignani\, Gilberto Catarsi\, Pietro Gigli\, Pilade Gigli\, Oreste Romanacci\, Bruno Giacomini e Genoveffa Pierozzi\, oltre al giovane anarchico Filippo Filippetti.  \nOggi\, in un periodo di crescente militarizzazione\, di guerra\, di rilancio di nazionalismo e patriottismo\, di autoritarismo sempre più forte e di attacco feroce alle condizioni di vita e di lavoro è ancora più importante riaffermare il nostro antifascismo. Lo facciamo con la pratica quotidiana\, ma anche attraverso la memoria di chi\, senza cedere a compromessi o seduzioni istituzionali\, volle realmente impedire l’affermazione del fascismo\, la dittatura\, la miseria e l’orrore della guerra. \nIl movimento anarchico invita tutti i soggetti antifascisti a partecipare alla commemorazione.  \nFederazione Anarchica Livornese // cdcfedanarchicalivornese@virgilio.it // federazioneanarchica.org  \nCollettivo Anarchico Libertario // collettivoanarchico@hotmail.it // collettivoanarchico.noblogs.org/
URL:https://umanitanova.org/event/livorno-100-anni-dai-fatti-dellagosto-1922-per-filippetti-per-ricordare-il-primo-antifascismo/
LOCATION:livorno
CATEGORIES:Evento
END:VEVENT
BEGIN:VEVENT
DTSTART;TZID=Europe/Rome:20220805T100000
DTEND;TZID=Europe/Rome:20220807T200000
DTSTAMP:20260422T061350
CREATED:20220803T101645Z
LAST-MODIFIED:20220803T101645Z
UID:21920-1659693600-1659902400@umanitanova.org
SUMMARY:Niscemi: CAMPEGGIO DI LOTTA NO MUOS
DESCRIPTION:Campeggio di Lotta No Muos \n\nNiscemi\, 5-6-7 agosto \n\nPROGRAMMA: \n\nVenerdì 5 agosto\nore 10 / “Dal conflitto ucraino a tutte le guerre che ci coinvolgono: un quadro politico internazionale”\nore 16 / “La presenza delle basi militari in Sicilia e il ricatto difesa – salute” con il Network di Ecologia Politica\nore 21 / Mostra e comizio nel centro storico di Niscemi \n\nSabato 6 agosto\nore 10 / tavoli di lavoro paralleli:\n• Formazione e guerra\n• Donne e guerra\nore 16 / presentazione del dossier “Processiamo il sionismo” con il Centro di documentazione antimperialista “Olga Benario” di Milano\nore 22 / Serata musicale – dj set \n\nDomenica 7 agosto\nore 10 / Assemblea del Movimento No Muos\nore 16 / Manifestazione No Muos intorno alla base militare \n\nper info e contatti:\n\nPalermo:\n3291296576\n3480712536\nCatania:\n3661041875\nRagusa:\n3382818189
URL:https://umanitanova.org/event/niscemi-campeggio-di-lotta-no-muos/
LOCATION:niscemi
CATEGORIES:Evento
END:VEVENT
BEGIN:VEVENT
DTSTART;TZID=Europe/Rome:20220806T190000
DTEND;TZID=Europe/Rome:20220806T233000
DTSTAMP:20260422T061350
CREATED:20220803T101936Z
LAST-MODIFIED:20220803T102212Z
UID:21925-1659812400-1659828600@umanitanova.org
SUMMARY:Carrara: HIROSHIMA\, 6 AGOSTO 1945 "Attualità del pensiero disarmista" di Carlo Cassola
DESCRIPTION:
URL:https://umanitanova.org/event/21925/
LOCATION:carrara
CATEGORIES:Evento
END:VEVENT
BEGIN:VEVENT
DTSTART;TZID=Europe/Rome:20220806T210000
DTEND;TZID=Europe/Rome:20220806T233000
DTSTAMP:20260422T061350
CREATED:20220803T102740Z
LAST-MODIFIED:20220803T102740Z
UID:21931-1659819600-1659828600@umanitanova.org
SUMMARY:Rimini: ANARCHICI A RIMINI
DESCRIPTION:— ANARCHICI A RIMINI — \n\n\n\nIn occasione del 150° anniversario della Conferenza di Rimini\, primo\ncongresso dell’Internazionale italiana\, momento ufficiale di\ncostituzione del movimento anarchico\, una passeggiata nei luoghi che\nhanno visto la presenza\, le azioni ed il pensiero di rivoluzionari\n(riminesi e non) che per decenni hanno popolato gli incubi dei potenti\ndi turno.\nTra gli altri: Amilcare Cipriani\, Domenico Francolini\, Errico\nMalatesta (no\, non c’entra nulla con i nostri Malatesta!)\, Pio\nTurroni\, Gaetano Bresci e tanti altri. \nPasseggiata gratuita su prenotazione. \n\n\n\nRitrovo ore 21 presso l’edicola vicina al parcheggio del Ponte di Tiberio \n\n\n\nPER INFORMAZIONI:\nCristian Savioli\nGuida Turistica\nGuida Ambientale Escursionistica\nCell. 333-4844496\nEmail: cristiansavioli@protonmail.com
URL:https://umanitanova.org/event/rimini-anarchici-a-rimini/
LOCATION:rimini\, Italia
CATEGORIES:Evento
END:VEVENT
BEGIN:VEVENT
DTSTART;TZID=Europe/Rome:20220811T210000
DTEND;TZID=Europe/Rome:20220811T230000
DTSTAMP:20260422T061350
CREATED:20220809T080811Z
LAST-MODIFIED:20220809T103517Z
UID:21988-1660251600-1660258800@umanitanova.org
SUMMARY:Valle Cilento: Giuseppe Galzerano  presenta il volume  "Andrea Salsedo.  Vita\, galera e morte dell'editore anarchico «suicidato» dalla polizia americana"
DESCRIPTION:L’11 agosto non perdete l’incontro dedicato alla presentazione del libro “Andrea Salsedo\, l’emigrante “suicidato” dall’Fbi” di Giuseppe Galzerano\, editore\, storico e autore. \n\n\nVi aspettiamo alle 21.00 presso Palazzo Coppola a Valle/Sessa Cilento \n\n\nIngresso gratuito\, per maggiori info contattaci al 348.4102880 \n\nInfo su:  https://www.festivalsegretidautore.it/…/andrea-salsedo…/
URL:https://umanitanova.org/event/valle-cilento-giuseppe-galzerano-presenta-il-volume-andrea-salsedo-vita-galera-e-morte-delleditore-anarchico-suicidato-dalla-polizia-americana/
LOCATION:Valle Cilento
CATEGORIES:Evento
ATTACH;FMTTYPE=image/jpeg:https://umanitanova.org/wp-content/uploads/2022/08/Salsedo-copertina-1.jpg
END:VEVENT
BEGIN:VEVENT
DTSTART;TZID=Europe/Rome:20220820T180000
DTEND;TZID=Europe/Rome:20220821T233000
DTSTAMP:20260422T061350
CREATED:20220724T135217Z
LAST-MODIFIED:20260414T065947Z
UID:21856-1661018400-1661124600@umanitanova.org
SUMMARY:Roccatederighi (GR): Rassegna di musica popolare in ricordo di Sante Caserio
DESCRIPTION:
URL:https://umanitanova.org/event/roccatederighi-gr-rassegna-di-musica-popolare-in-ricordo-di-sante-caserio/
LOCATION:Roccatederighi (RG)
CATEGORIES:Evento
END:VEVENT
END:VCALENDAR