BEGIN:VCALENDAR
VERSION:2.0
PRODID:-// - ECPv6.15.20//NONSGML v1.0//EN
CALSCALE:GREGORIAN
METHOD:PUBLISH
X-ORIGINAL-URL:https://umanitanova.org
X-WR-CALDESC:Eventi per 
REFRESH-INTERVAL;VALUE=DURATION:PT1H
X-Robots-Tag:noindex
X-PUBLISHED-TTL:PT1H
BEGIN:VTIMEZONE
TZID:Europe/Rome
BEGIN:DAYLIGHT
TZOFFSETFROM:+0100
TZOFFSETTO:+0200
TZNAME:CEST
DTSTART:20210328T010000
END:DAYLIGHT
BEGIN:STANDARD
TZOFFSETFROM:+0200
TZOFFSETTO:+0100
TZNAME:CET
DTSTART:20211031T010000
END:STANDARD
BEGIN:DAYLIGHT
TZOFFSETFROM:+0100
TZOFFSETTO:+0200
TZNAME:CEST
DTSTART:20220327T010000
END:DAYLIGHT
BEGIN:STANDARD
TZOFFSETFROM:+0200
TZOFFSETTO:+0100
TZNAME:CET
DTSTART:20221030T010000
END:STANDARD
BEGIN:DAYLIGHT
TZOFFSETFROM:+0100
TZOFFSETTO:+0200
TZNAME:CEST
DTSTART:20230326T010000
END:DAYLIGHT
BEGIN:STANDARD
TZOFFSETFROM:+0200
TZOFFSETTO:+0100
TZNAME:CET
DTSTART:20231029T010000
END:STANDARD
END:VTIMEZONE
BEGIN:VEVENT
DTSTART;TZID=Europe/Rome:20220701T180000
DTEND;TZID=Europe/Rome:20220701T180000
DTSTAMP:20260422T024608
CREATED:20220630T111832Z
LAST-MODIFIED:20220630T111832Z
UID:21603-1656698400-1656698400@umanitanova.org
SUMMARY:Bologna: Sulla gestione della pandemia | Presentazione di Semi Sotto la Neve
DESCRIPTION:[1972-2022] 50° ANNIVERSARIO DEL CIRCOLO ANARCHICO BERNERI \n  \n\n1) Mercoledì 29 giugno 2022\, ore 19.30 \nSulla gestione della pandemia: etica\, scienza\, economia\, governo\, anarchia. Discussione con Toni Senta e Stefano Boni \nDi fronte all’esigenza di creare spazi di confronto\, l’incontro è un momento di ascolto e dibattito sereno per riflettere collettivamente sui temi caldi riguardanti la gestione della pandemia degli ultimi anni. \nGli spunti partiranno dalle differenti riflessioni condivise all’interno dei collettivi (link per approfondire le argomentazioni): \n– Tutta un’altra storia http://tuttaunaltrastoria.info/atti * Stefano Boni\n– Gruppo pandemico https://gruppopandemico.lattuga.net/contro-il-virus/ *\nToni Senta \nA seguire aperitivo autoprodotto\, sostieni il Circolo Anarchico Berneri!! \n2) Venerdì 1 Luglio\, ore 18 \nPresentazione della rivista “Semi sotto la neve” \nRivista libertaria. Quadrimestrale. Il titolo  scelto per questa nuova rivista sintetizza il suo programma editoriale. Infatti\, con l’espressione «Semi sotto la neve» (coniata da Ignazio Silone e ripresa concettualmente da Colin Ward) si intende proporre ai  lettori una rinnovata interpretazione del pensiero anarchico\, delle esperienze libertarie e delle pratiche mutualistiche. Si tratta di valorizzare una dimensione costruttiva\, positiva e sperimentale di una tradizione sociale\, politica e culturale che si riconosce come antiautoritaria e solidaristica.
URL:https://umanitanova.org/event/bologna-sulla-gestione-della-pandemia-presentazione-di-semi-sotto-la-neve/
LOCATION:bologna
CATEGORIES:Evento
END:VEVENT
BEGIN:VEVENT
DTSTART;TZID=Europe/Rome:20220701T183000
DTEND;TZID=Europe/Rome:20220701T200000
DTSTAMP:20260422T024608
CREATED:20220630T114954Z
LAST-MODIFIED:20220630T114954Z
UID:21615-1656700200-1656705600@umanitanova.org
SUMMARY:Livorno: PRESIDIO DI PROTESTA DAVANTI AL CONSOLATO SVEDESE
DESCRIPTION:VENERDI’ 1 LUGLIO ALLE ORE 18\,30 PRESIDIO DI PROTESTA DAVANTI AL CONSOLATO SVEDESE (Via della Venezia\, 15)\n\nNo all’accordo tra Svezia\, Finlandia e Turchia sulla pelle del movimento curdo.\nPer ottenere l’assenso della Turchia al loro ingresso nella Nato\, la Svezia ha accettato di abbandonare i curdi al loro destino\, proprio mentre questi subiscono una violenta offensiva militare del dittatore Erdogan in Rojava\, regione nel nord della Siria.\nCon un trattato di tre paginette la Finlandia\, ma la Svezia soprattutto\, hanno accettato di non sostenere più la milizia curda Ypg (Unità di Protezione Popolare) che in Siria ha combattuto al fianco dell’occidente contro l’Isis\, portando il contributo decisivo alla sconfitta dello “stato islamico” con un prezzo esorbitante di morti e distruzioni.\nL’accordo raggiunto include la pronta valutazione di ogni richiesta di espulsione o estradizione di soggetti che la Turchia ritenga sospetti terroristi\, sulla base delle informazioni\, delle prove e dell’intelligence fornite dalla medesima. Inoltre mette fine all’embargo sulle armi verso quel paese.\nVERGONA!!! ERDOGAN E’ IL VERO ED UNICO TERRORISTA!\n\nSOLIDARIETÀ AI RIFUGIATI POLITICI PERSEGUITATI IN TURCHIA LIBERTÀ PER TUTTX!
URL:https://umanitanova.org/event/livorno-presidio-di-protesta-davanti-al-consolato-svedese/
LOCATION:livorno
CATEGORIES:Evento
END:VEVENT
BEGIN:VEVENT
DTSTART;TZID=Europe/Rome:20220701T190000
DTEND;TZID=Europe/Rome:20220702T010000
DTSTAMP:20260422T024609
CREATED:20220630T105054Z
LAST-MODIFIED:20220630T105054Z
UID:21596-1656702000-1656723600@umanitanova.org
SUMMARY:Pisa: AperiReggae per UMANITA NOVA /Roots And Culture Open Air Edition
DESCRIPTION:AperiREGGAE per UMANITA’ NOVA \nCircolo Anarchico Vicolo del Tidi (Pisa) \nRoots And Culture l’evento reggae a sostegno di Umanità Nova che dal 2007 si tiene in varie location a Pisa finalmente arriva all’aria aperta! Venerdì 1 luglio i nostri fratelli Roots Militant HiFi inonderanno di buone vibes il giardino di Eigenlab Hacklab autogestito\, con orto urbano situato in un prefabbricato abbandonato all’interno dell’area del Polo Universitario Fibonacci. \nVi aspettiamo dalle 19.00 all’1.00 per una magica festa a ingresso libero! Il nostro aperiREGGAE organizzato in collaborazione con il Circolo Anarchico Vicolo del Tidi \nDj set: selezione in vinile a cura di ROOTS MILITANT HI-FI! \nLa serata sarà benefit per il settimanale anarchico UMANITA’ NOVA\, e come sempre\, troverete prezzi popolari\, letture tarocchi\, ping pong\, il bellissimo giardino del casotto\, e tanta presa bene! \nNon mancare: e se puoi\, porta il tuo bicchiere! \n(Durante la serata ci saranno anche rosmarino\, agli e aglioni autoprodotti da noi ad offerta libera!)
URL:https://umanitanova.org/event/pisa-aperireggae-per-umanita-nova-roots-and-culture-open-air-edition/
LOCATION:Pisa
CATEGORIES:Evento
END:VEVENT
BEGIN:VEVENT
DTSTART;TZID=Europe/Rome:20220702T160000
DTEND;TZID=Europe/Rome:20220702T193000
DTSTAMP:20260422T024609
CREATED:20220630T112755Z
LAST-MODIFIED:20220630T112845Z
UID:21611-1656777600-1656790200@umanitanova.org
SUMMARY:Torino: No alla Città dell'aerospazio! No alla Nato a Torino!
DESCRIPTION:Giornata di informazione e lotta in via Roma 100 di fronte alla galleria San Federico\, sede del distretto aerospaziale del Piemonte. \nTorino punta tutto sull’industria bellica per il rilancio dell’economia. Un’economia di morte. Torino è già oggi uno dei maggiori centri dell’industria bellica aerospaziale.\nSempre a Torino sta per partire la costruzione della Città dell’Aerospazio\, un centro di eccellenza per l’industria bellica aerospaziale promosso dal colosso armiero Leonardo e dal Politecnico.\nLa Città dell’Aerospazio\, che sorgerà tra corso Francia e corso Marche\, ospiterà un acceleratore d’innovazione nel campo della Difesa\, uno dei nove nodi europei di D.I.A.N.A\, una struttura della NATO. Questo progetto si inserisce nel programmi di innovazione tecnologica della NATO per il 2030: la NATO ci investe un miliardo di dollari. Una montagna di soldi che verranno utilizzati per produrre tecnologie sempre più sofisticate\, sempre più mortali.\nL’industria bellica è il motore di tutte le guerre. La Città dell’Aerospazio e l’acceleratore di innovazione della NATO sono sostenute attivamente dal governo della città\, da quello della Regione e da Confindustria.\nGiocano la carta del ricatto occupazionale\, in una città sempre più povera\, dove arrivare a fine mese è sempre più difficile\, dove salute\, istruzione\, trasporti sono sempre più un privilegio per chi può pagare.\nI poveri del nostro paese\, ogni volta che vanno a fare la spesa\, portano a casa sempre meno cibo\, abiti\, medicine\, perché l’aumento dei prezzi dell’energia e dei beni di prima necessità sta rendendo ancora più precarie le vite di noi tutti.\nIn questi mesi di guerra in Ucraina\, migliaia di persone sono state uccise\, torturate e stuprate\, altre hanno perso la casa e preso la via dell’esilio. Il governo italiano ha inviato armi in Ucraina\, moltiplicato il numero di militari impiegati ai confini con l’Ucraina e il Mar Nero\, aumentato la spesa bellica. \nI riflettori sull’Ucraina non devono distoglierci dalle altre 55 guerre che insanguinano il pianeta lontano dai riflettori dei media. \nL’Italia è impegnata in ben 40 missioni militari all’estero\, di cui 18 in Africa\, dove le truppe tricolori fanno la guerra ai migranti e difendono gli interessi di colossi come l’ENI.\nProvate ad immaginare quante scuole\, ospedali\, trasporti pubblici di prossimità si potrebbero finanziare se le la ricerca e la produzione venissero usate per la vita di noi tutti\, per la Cura invece che per la guerra. \nBloccare la nascita di un nuovo polo di ricerca\, progettazione e costruzione di ordigni bellici\, impedire che la NATO abbia una sua base a Torino è un impegno concreto contro la guerra. Contro tutte le guerre.\nLe armi che uccidono donne\, uomini e bambini in ogni angolo del pianeta sono costruite anche a due passi dalle nostre case\, a due passi dal giardinetti dove giocano i nostri bambini e bambine.\nPer fermare le guerre non basta un no\, non bastano le bandiere arcobaleno: urge mettersi di mezzo per chiudere e riconvertire le industrie di morte\, per opporsi all’aumento della spesa militare\, per bloccare l’invio di armi sui fronti di guerra. \nOggi ci vorrebbero tutti arruolati nella guerra imperialista tra la Russia e l’Ucraina. Noi non ci stiamo. Noi non ci arruoliamo né con la NATO\, né con la Russia. Rifiutiamo la retorica patriottica come elemento di legittimazione degli Stati e delle loro pretese espansionistiche.\nSiamo a fianco della gente che muore sotto le bombe in Ucraina\, siamo a fianco di chi\, in Russia\, subisce carcere e repressione per essersi opposto all’invasione dell’Ucraina.\nSiamo a fianco dei lavorator* ucraini che una nuova legge obbliga a 12 ore di lavoro al giorno\, mentre i padroni possono anche differire i salari.\nSiamo contro l’economia di guerra qui e ovunque.\nSiamo a fianco di chi\, in ogni dove\, diserta la guerra tra gli stati\, che si contendono il dominio imperiale sui territori\, le risorse\, le vite di donne\, uomini e bambin*.\nSiamo contro la guerra e chi la arma\, a partire dal colosso armiero Leonardo\, che fa buoni affari con tutti e sta per costruire a Torino la città dell’aerospazio.\nVogliamo un mondo senza frontiere\, eserciti\, oppressione\, sfruttamento e guerra. \nSabato 2 luglio ore 16\nmanifestazione in via Roma\ndi fronte all’ingresso di Galleria San Federico\, dove ha sede il DAP – Distretto Aerospaziale Piemontese \nCoordinamento contro la guerra e chi la arma
URL:https://umanitanova.org/event/torino-no-alla-citta-dellaerospazio-no-alla-nato-a-torino/
LOCATION:torino
CATEGORIES:Evento
END:VEVENT
BEGIN:VEVENT
DTSTART;TZID=Europe/Rome:20220702T173000
DTEND;TZID=Europe/Rome:20220702T233000
DTSTAMP:20260422T024609
CREATED:20220630T112315Z
LAST-MODIFIED:20220630T112315Z
UID:21607-1656783000-1656804600@umanitanova.org
SUMMARY:Roma: Baratto? Si può fare! Buffet e proiezione
DESCRIPTION:Sabato 2 luglio ci troveremo a partire dalle ore 17:30 con il banchetto del Baratto? Si può fare! Alle ore 20.00 ci sarà un buffet e alle 21.00 la proiezione del film Vita di Bohème diretto da  Aki Kaurismäki\,1992. \nTratto dal romanzo di Henry Murger che ha ispirato anche l’opera di Puccini\, è la storia di tre artisti squattrinati che diventano amici nella moderna Parigi: Rodolfo\, un pittore albanese senza visto\, Marcel\, un povero scrittore senza editore\, e Schaunard\, un compositore di rumorosa musica post-moderna. \nAllo Spazio Anarchico 19 Luglio via Rocco da Cesinale 18 – metro B – Garbatella \nA sottoscrizione libera e all’aperto \nGruppo Anarchico C. Cafiero FAI Roma \nwww.cafierofairoma.wordpress.com
URL:https://umanitanova.org/event/roma-baratto-si-puo-fare-buffet-e-proiezione/
LOCATION:roma
CATEGORIES:Evento
END:VEVENT
BEGIN:VEVENT
DTSTART;TZID=Europe/Rome:20220704T180000
DTEND;TZID=Europe/Rome:20220704T200000
DTSTAMP:20260422T024609
CREATED:20220704T101923Z
LAST-MODIFIED:20220704T101923Z
UID:21629-1656957600-1656964800@umanitanova.org
SUMMARY:Roma: BASTA MORTI DI STATO!
DESCRIPTION:Le frontiere sono ormai sinonimo di stragi e genocidi\, dagli USA alla Spagna. Le guerre neocoloniali\, le devastazioni ambientali\, le carestie portano intere popolazioni ad essere massacrate da quegli Stati che dovrebbero garantire la loro incolumità attraverso i diritti internazionali: una violenza brutale\, a Melilla come a San Antonio\, perpetrata in nome del sovranismo.\nPer questo abbiamo deciso di scendere in piazza dell’Esquilino\, lunedì 4 luglio 2022 alle ore 18:00 per denunciare queste politiche genocide e per lottare contro tutte le frontiere.\n\nRete Antirazzista – Roma\nrete.antira@gmail.com\n\nGruppo anarchico Mikhail Bakunin
URL:https://umanitanova.org/event/roma-basta-morti-di-stato/
LOCATION:roma
CATEGORIES:Evento
END:VEVENT
BEGIN:VEVENT
DTSTART;TZID=Europe/Rome:20220722T160000
DTEND;TZID=Europe/Rome:20220722T233000
DTSTAMP:20260422T024609
CREATED:20220718T093907Z
LAST-MODIFIED:20220718T093907Z
UID:21731-1658505600-1658532600@umanitanova.org
SUMMARY:Roma: Giornata in ricordo dei 90 anni dalla morte di Errico Malatesta
DESCRIPTION:Venerdì 22 luglio\, a 90 anni dalla morte del compagno Errico Malatesta\, abbiamo deciso di organizzare una giornata di lotta e di memoria. \nPartiremo dal Verano\, entrata piazza delle Crociate\, alle ore 16:00 per salutare il compagno lì dove è sepolto\, omaggiandolo con fiori e pugno chiusi.\nPoi\, verso le 18:30 ci recheremo alla targa a piazzale degli Eroi e porremo una ghirlanda di fiori lì dove ha vissuto gli ultimi anni della sua vita.\nInfine\, dalle 20:00 continueremo la serata nella nostra sede\, sita in via Vettor Fausto 3 (Metro Roma B – Garbatella)\, per un dibattito sul movimento anarchico di ieri e di oggi.\nVi aspettiamo per una giornata insieme.\nViva la libertà\, evviva l’anarchia! \nGruppo Anarchico Mikhail Bakunin – FAI Roma&Lazio
URL:https://umanitanova.org/event/roma-giornata-in-ricordo-dei-90-anni-dalla-morte-di-errico-malatesta/
LOCATION:roma
CATEGORIES:Evento
END:VEVENT
BEGIN:VEVENT
DTSTART;TZID=Europe/Rome:20220722T190000
DTEND;TZID=Europe/Rome:20220722T233000
DTSTAMP:20260422T024609
CREATED:20220718T094800Z
LAST-MODIFIED:20220718T094800Z
UID:21733-1658516400-1658532600@umanitanova.org
SUMMARY:Pisa: Conferenza "Il fascismo come controrivoluzione preventiva nell'analisi politica di Errico Malatesta"
DESCRIPTION:  \n\nVenerdì 22 luglio\, alle ore 19.00\, presso il circolo Arci Alberone di via sant’Agostino 199\, in occasione del 90° anniversario della scomparsa di Errico Malatesta (1853-1932) si terrà la conferenza “Il fascismo come controrivoluzione preventiva nell’analisi politica di Errico Malatesta”\, con Franco Bertolucci e Stefano Gallo (Biblioteca “F. Serantini”).  \n\n 
URL:https://umanitanova.org/event/pisa-conferenza-il-fascismo-come-controrivoluzione-preventiva-nellanalisi-politica-di-errico-malatesta/
LOCATION:Pisa
CATEGORIES:Evento
END:VEVENT
BEGIN:VEVENT
DTSTART;TZID=Europe/Rome:20220722T210000
DTEND;TZID=Europe/Rome:20220723T000000
DTSTAMP:20260422T024609
CREATED:20220720T193753Z
LAST-MODIFIED:20220720T193753Z
UID:21751-1658523600-1658534400@umanitanova.org
SUMMARY:Livorno: basta missioni militari\, basta guerre!
DESCRIPTION:PRESIDIO: BASTA MISSIONI MILITARI\, BASTA GUERRE!  \nVenerdì 22 Luglio ore 21\nTerrazza Mascagni \nIl Parlamento si prepara a votare le nuove missioni militari all’estero e il rinnovo delle missioni già in corso. I militari che l’italia spedisce all’estero salgono a 12.000\, e la spesa per le missioni cresce fino a oltre 1 miliardo e 681 milioni di euro! Le nuove missioni in Bulgaria\, Ungheria\, Qatar e Mozambico confermano la politica imperialista e neocoloniale dell’Italia. Facciamo sentire la nostra  opposizione alla spirale di guerra!
URL:https://umanitanova.org/event/livorno-basta-missioni-militari-basta-guerre/
LOCATION:livorno
CATEGORIES:Evento
END:VEVENT
BEGIN:VEVENT
DTSTART;TZID=Europe/Rome:20220723T190000
DTEND;TZID=Europe/Rome:20220724T000000
DTSTAMP:20260422T024609
CREATED:20220720T200744Z
LAST-MODIFIED:20220720T200845Z
UID:21758-1658602800-1658620800@umanitanova.org
SUMMARY:Carrara: "Parliamo di Coltano"
DESCRIPTION:Sabato 23 Luglio dalle ore 19:00 a Carrara presso piazza del Duomo (Sede FAI) si parlerà del progetto di realizzazione della base militare di Coltano. \n Interverranno i compagn* del comitato “No Base né a Coltano né altrove” \nCONTRO LE BASI MILITARI\, LE GUERRE\, LE LOGICHE IPOCRITE E NEOCOLONIALI DEGLI STATI \nSeguirà una cena di sottoscrizione\n \nVI ASPETTIAMO!  \nCoordinamento antimilitarista di Carrara
URL:https://umanitanova.org/event/carrara-parliamo-di-coltano/
LOCATION:carrara
CATEGORIES:Evento
END:VEVENT
BEGIN:VEVENT
DTSTART;TZID=Europe/Rome:20220725T210000
DTEND;TZID=Europe/Rome:20220725T233000
DTSTAMP:20260422T024609
CREATED:20220704T103045Z
LAST-MODIFIED:20220704T103045Z
UID:21635-1658782800-1658791800@umanitanova.org
SUMMARY:Castel Bolognese: Il G8 di Genova: la ricerca della verità Per ricordare le vicende di Genova e la tragica uccisione di Carlo Giuliani
DESCRIPTION:Associazione delle Amiche e degli Amici dellaBiblioteca Libertaria Armando Borghi \n  \nIl G8 di Genova: la ricerca della veritàPer ricordare le vicende di Genova e la tragica uccisione di CarloGiuliani (20 luglio 2001) \n  \nProiezione del documentario prodotto da RAI 3 e dibattito con il giornalistaLorenzo Guadagnucci – Castel Bolognese\, 25 luglio 2022 – ore 21:00 \nLa «Associazione delle Amiche e degli Amici della Biblioteca Libertaria ArmandoBorghi»\, in collaborazione con la Biblioteca Comunale “Luigi Dal Pane” di CastelBolognese\, organizza un incontro pubblico sul G8 di Genova del luglio 2001 e latragica uccisione di Carlo Giuliani.L’incontro – che si inserisce nell’ambito delle iniziative culturali dell’Estate Castellana2022 – avrà luogo nel Chiostro del Palazzo Comunale di Castel Bolognese (PiazzaBernardi\, 1) – il lunedì 25 luglio 2022\, con inizio alle ore 21\,00.Sarà proiettato il documentario “Il G8 di Genova – La ricerca della verità”\, prodotto daRAI 3 e andato in onda nel 2021 nell’ambito della rubrica “La Grande Storia”\,condotta da Paolo Mieli. Seguirà una conversazione con il giornalista LorenzoGuadagnucci (“La Nazione/Il Resto del Carlino/Il Giorno”). Ingresso libero. \n* * * \nUn documentario\, con materiale d’archivio e interviste ai protagonisti\, per ripercorrere ilsummit degli otto Grandi\, il Genoa Social Forum\, i cortei pacifici\, gli assalti dei black bloc\, lecariche della Polizia e la morte del giovane Carlo Giuliani nell’assalto a un blindato deiCarabinieri\, in un crescendo di violenza che raggiungerà il suo apice nella terribile notte deipestaggi alla scuola Diaz e delle torture nella caserma di Bolzaneto. Regia di Elio Mazzacane\,con la consulenza storica di Donatella Della Porta. Una produzione che ricostruisce\, a 20 annidi distanza dai drammatici avvenimenti del G8 di Genova\, il complesso\, difficile e a voltetortuoso percorso che porterà la magistratura italiana\, dopo anni di processi\, a determinare leresponsabilità delle forze dell’ordine per le irruzioni e i pestaggi alla scuola “Armando Diaz” eper le violenze inflitte ai manifestanti nella caserma di Bolzaneto. Quei fatti hanno visto unpronunciamento della Corte Europea dei Diritti dell’uomo\, la quale ha condannato l’Italia peravere violato l’articolo 3 della Convenzione Europea dei Diritti Umani relativo al “divieto ditortura e di trattamenti inumani o degradanti”. L’iter giudiziario che ha portato allaricostruzione dei fatti e alla condanna dei vertici della Polizia italiana è raccontato da EnricoZucca\, PM del Processo Diaz\, da Lorenzo Guadagnucci\, giornalista vittima dei pestaggi\, chesarà ospite durante la serata e da Marco Poggi\, infermiere di servizio alla caserma diBolzaneto. Nel dibattito si cercherà di ricostruire anche il ruolo avuto dal movimentotransnazionale “new global” negli anni del trapasso dal secondo al terzo millennio\, tracciandoun bilancio di quella fase storica. Ci si interrogherà inoltre sulla sua eredità e sulla influenzache tuttora esercita sui movimenti sociali e politici del presente. \n  \nPer informazioni : 370-3304999 (oppure: 0546-55501)Mail: bibliotecaborghi1916@gmail.com Sito: bibliotecaborghi.orgFacebook: https://www.facebook.com/bibliotecaborghi1916
URL:https://umanitanova.org/event/castel-bolognese-il-g8-di-genova-la-ricerca-della-verita-per-ricordare-le-vicende-di-genova-e-la-tragica-uccisione-di-carlo-giuliani/
LOCATION:castelbolognese
CATEGORIES:Evento
END:VEVENT
BEGIN:VEVENT
DTSTART;TZID=Europe/Rome:20220729T080000
DTEND;TZID=Europe/Rome:20220731T233000
DTSTAMP:20260422T024609
CREATED:20220630T153327Z
LAST-MODIFIED:20220630T153327Z
UID:21621-1659081600-1659310200@umanitanova.org
SUMMARY:St. Imier (Svizzera): Weekend libertario 29-31 luglio 2022
DESCRIPTION:A 150 anni dal Congresso di Saint-Imier in cui fu fondata l’Internazionale Antiautoritaria\, segnando la nascita dell’anarchismo organizzato\, si svolgerà nella località svizzera un weekend libertario dal 29 al 31 luglio. Tre giornate di incontri\, laboratori\, salone del libro anarchico\, concerti. Molt* compagn* sicuramente ricordano l’Incontro Internazionale Anarchico del 2012\, quando 4000 anarchic* da tutto il mondo si ritrovarono nel paesino del Giura bernese per celebrare i 140 anni dal Congresso di Saint-Imier.\nPurtroppo il rischio sanitario e le limitazioni ai viaggi imposti dalla pandemia e dalla gestione che ne hanno dato i governi ha impedito di tenere anche nel 2022 un incontro anarchico di portata globale. Il weekend libertario di quest’anno sarà comunque un’importante occasione di scambio e confronto tra compagn* di questa parte dell’Europa e sarà un’occasione per ribadire l’attualità delle idee e delle pratiche anarchiche a 150 anni dal Congresso di Saint-Imier. Sarà anche un trampolino per preparare un incontro anarchico di portata globale per il prossimo anno: in questa prospettiva sono stati lanciati a partire dall’estate 2022 gli Incontri Antiautoritari Decentralizzati\, per preparare con iniziative in diversi paesi del mondo (alcune sono già state lanciate in Sudamerica) il grande appuntamento del 2023. \nSeguite gli aggiornamenti su: https://www.anarchy2022.org/
URL:https://umanitanova.org/event/st-imier-svizzera-weekend-libertario-29-31-luglio-2022/
LOCATION:st imier\, Svizzera
CATEGORIES:Evento
END:VEVENT
BEGIN:VEVENT
DTSTART;TZID=Europe/Rome:20220729T203000
DTEND;TZID=Europe/Rome:20220729T233000
DTSTAMP:20260422T024609
CREATED:20220724T134442Z
LAST-MODIFIED:20220724T134442Z
UID:21852-1659126600-1659137400@umanitanova.org
SUMMARY:Bologna: GRANDE CENA PER GAETANO BRESCI E PER L'ANARCHIA!
DESCRIPTION:1972-2022 50° ANNIVERSARIO DEL CIRCOLO ANARCHICO BERNERI \n  \nVENERDI’ 29 LUGLIO dalle ore 20.30\nGRANDE CENA PER GAETANO BRESCI E PER L’ANARCHIA! \nCare compagne\,\nnel 50° anniversario del Circolo Anarchico Berneri non potevano mancare i consueti festeggiamenti per il gesto di liberazione con cui nel 1900 a Monza venne ucciso il Re Umberto I per mano dell’anarchico Gaetano Bresci. \nCena a prezzi popolari e socialità\, accompagnate dal sottofondo musicale di DJ Trycatch!\nMenu vegano e onnivoro. \n“Non ho ucciso Umberto\, ho ucciso un re\, ho ucciso un principio!”\n— Gaetano Bresci
URL:https://umanitanova.org/event/bologna-grande-cena-per-gaetano-bresci-e-per-lanarchia/
LOCATION:bologna
CATEGORIES:Evento
END:VEVENT
END:VCALENDAR